BEGIN:VCALENDAR
VERSION:2.0
PRODID:-//Sweet Time Entertainment - ECPv6.13.2.1//NONSGML v1.0//EN
CALSCALE:GREGORIAN
METHOD:PUBLISH
X-WR-CALNAME:Sweet Time Entertainment
X-ORIGINAL-URL:https://sweettimeent.com
X-WR-CALDESC:Events for Sweet Time Entertainment
REFRESH-INTERVAL;VALUE=DURATION:PT1H
X-Robots-Tag:noindex
X-PUBLISHED-TTL:PT1H
BEGIN:VTIMEZONE
TZID:America/New_York
BEGIN:DAYLIGHT
TZOFFSETFROM:-0500
TZOFFSETTO:-0400
TZNAME:EDT
DTSTART:20240310T070000
END:DAYLIGHT
BEGIN:STANDARD
TZOFFSETFROM:-0400
TZOFFSETTO:-0500
TZNAME:EST
DTSTART:20241103T060000
END:STANDARD
END:VTIMEZONE
BEGIN:VEVENT
DTSTART;TZID=America/New_York:20240419T210000
DTEND;TZID=America/New_York:20240419T235900
DTSTAMP:20260424T052138
CREATED:20210913T144328Z
LAST-MODIFIED:20240202T190543Z
UID:4005-1713560400-1713571140@sweettimeent.com
SUMMARY:Friday Karaoke at The Brazen Hen
DESCRIPTION:Karaoke Every Friday\n9pm – 12am\nHosted by DJ Sweet Nik!
URL:https://sweettimeent.com/events/friday-karaoke-night-2024-04-19/
LOCATION:The Brazen Hen\, 4 Canal Street\, Westerly\, RI\, 02891\, United States
CATEGORIES:Karaoke
ATTACH;FMTTYPE=image/jpeg:https://sweettimeent.com/wp-content/uploads/2021/09/FB_IMG_1625880869056.jpg
END:VEVENT
BEGIN:VEVENT
DTSTART;TZID=America/New_York:20240417T210000
DTEND;TZID=America/New_York:20240417T235900
DTSTAMP:20260424T052138
CREATED:20221201T185425Z
LAST-MODIFIED:20221201T185425Z
UID:3959-1713387600-1713398340@sweettimeent.com
SUMMARY:Wednesday Karaoke at Friar Tucks
DESCRIPTION:Karaoke every Wednesday night!\nHosted by DJ Deelish \n 
URL:https://sweettimeent.com/events/wednesday-karaoke-at-friar-tucks-2024-04-17/
LOCATION:Friar Tuck’s Tavern\, 12 Water St\, Mystic\, CT\, 06355\, United States
CATEGORIES:Karaoke
ATTACH;FMTTYPE=image/png:https://sweettimeent.com/wp-content/uploads/2022/12/Friar-Tucks-Flyer-11x14-1.png
END:VEVENT
BEGIN:VEVENT
DTSTART;TZID=America/New_York:20240414T203000
DTEND;TZID=America/New_York:20240414T233000
DTSTAMP:20260424T052138
CREATED:20210913T144643Z
LAST-MODIFIED:20210913T144643Z
UID:4097-1713126600-1713137400@sweettimeent.com
SUMMARY:Sunday Karaoke at Harp & Hound
DESCRIPTION:Karaoke Every Sunday\nHosted by DJ Deelish!
URL:https://sweettimeent.com/events/sunday-karaoke-night-2024-04-14/
LOCATION:Harp & Hound\, 4 Pearl Street\, Mystic\, CT\, 06355\, United States
CATEGORIES:Karaoke
ATTACH;FMTTYPE=image/jpeg:https://sweettimeent.com/wp-content/uploads/2021/09/FB_IMG_1627829416471.jpg
END:VEVENT
BEGIN:VEVENT
DTSTART;TZID=America/New_York:20240412T210000
DTEND;TZID=America/New_York:20240412T235900
DTSTAMP:20260424T052138
CREATED:20210913T144328Z
LAST-MODIFIED:20240202T190541Z
UID:4004-1712955600-1712966340@sweettimeent.com
SUMMARY:Friday Karaoke at The Brazen Hen
DESCRIPTION:Karaoke Every Friday\n9pm – 12am\nHosted by DJ Sweet Nik!
URL:https://sweettimeent.com/events/friday-karaoke-night-2024-04-12/
LOCATION:The Brazen Hen\, 4 Canal Street\, Westerly\, RI\, 02891\, United States
CATEGORIES:Karaoke
ATTACH;FMTTYPE=image/jpeg:https://sweettimeent.com/wp-content/uploads/2021/09/FB_IMG_1625880869056.jpg
END:VEVENT
BEGIN:VEVENT
DTSTART;TZID=America/New_York:20240410T210000
DTEND;TZID=America/New_York:20240410T235900
DTSTAMP:20260424T052138
CREATED:20221201T185425Z
LAST-MODIFIED:20221201T185425Z
UID:3958-1712782800-1712793540@sweettimeent.com
SUMMARY:Wednesday Karaoke at Friar Tucks
DESCRIPTION:Karaoke every Wednesday night!\nHosted by DJ Deelish \n 
URL:https://sweettimeent.com/events/wednesday-karaoke-at-friar-tucks-2024-04-10/
LOCATION:Friar Tuck’s Tavern\, 12 Water St\, Mystic\, CT\, 06355\, United States
CATEGORIES:Karaoke
ATTACH;FMTTYPE=image/png:https://sweettimeent.com/wp-content/uploads/2022/12/Friar-Tucks-Flyer-11x14-1.png
END:VEVENT
BEGIN:VEVENT
DTSTART;TZID=America/New_York:20240407T203000
DTEND;TZID=America/New_York:20240407T233000
DTSTAMP:20260424T052138
CREATED:20210913T144643Z
LAST-MODIFIED:20210913T144643Z
UID:4096-1712521800-1712532600@sweettimeent.com
SUMMARY:Sunday Karaoke at Harp & Hound
DESCRIPTION:Karaoke Every Sunday\nHosted by DJ Deelish!
URL:https://sweettimeent.com/events/sunday-karaoke-night-2024-04-07/
LOCATION:Harp & Hound\, 4 Pearl Street\, Mystic\, CT\, 06355\, United States
CATEGORIES:Karaoke
ATTACH;FMTTYPE=image/jpeg:https://sweettimeent.com/wp-content/uploads/2021/09/FB_IMG_1627829416471.jpg
END:VEVENT
BEGIN:VEVENT
DTSTART;TZID=America/New_York:20240405T210000
DTEND;TZID=America/New_York:20240405T235900
DTSTAMP:20260424T052138
CREATED:20210913T144328Z
LAST-MODIFIED:20240202T190540Z
UID:4003-1712350800-1712361540@sweettimeent.com
SUMMARY:Friday Karaoke at The Brazen Hen
DESCRIPTION:Karaoke Every Friday\n9pm – 12am\nHosted by DJ Sweet Nik!
URL:https://sweettimeent.com/events/friday-karaoke-night-2024-04-05/
LOCATION:The Brazen Hen\, 4 Canal Street\, Westerly\, RI\, 02891\, United States
CATEGORIES:Karaoke
ATTACH;FMTTYPE=image/jpeg:https://sweettimeent.com/wp-content/uploads/2021/09/FB_IMG_1625880869056.jpg
END:VEVENT
BEGIN:VEVENT
DTSTART;TZID=America/New_York:20240403T210000
DTEND;TZID=America/New_York:20240403T235900
DTSTAMP:20260424T052138
CREATED:20221201T185425Z
LAST-MODIFIED:20221201T185425Z
UID:3957-1712178000-1712188740@sweettimeent.com
SUMMARY:Wednesday Karaoke at Friar Tucks
DESCRIPTION:Karaoke every Wednesday night!\nHosted by DJ Deelish \n 
URL:https://sweettimeent.com/events/wednesday-karaoke-at-friar-tucks-2024-04-03/
LOCATION:Friar Tuck’s Tavern\, 12 Water St\, Mystic\, CT\, 06355\, United States
CATEGORIES:Karaoke
ATTACH;FMTTYPE=image/png:https://sweettimeent.com/wp-content/uploads/2022/12/Friar-Tucks-Flyer-11x14-1.png
END:VEVENT
BEGIN:VEVENT
DTSTART;TZID=America/New_York:20240331T203000
DTEND;TZID=America/New_York:20240331T233000
DTSTAMP:20260424T052138
CREATED:20210913T144643Z
LAST-MODIFIED:20210913T144643Z
UID:4095-1711917000-1711927800@sweettimeent.com
SUMMARY:Sunday Karaoke at Harp & Hound
DESCRIPTION:Karaoke Every Sunday\nHosted by DJ Deelish!
URL:https://sweettimeent.com/events/sunday-karaoke-night-2024-03-31/
LOCATION:Harp & Hound\, 4 Pearl Street\, Mystic\, CT\, 06355\, United States
CATEGORIES:Karaoke
ATTACH;FMTTYPE=image/jpeg:https://sweettimeent.com/wp-content/uploads/2021/09/FB_IMG_1627829416471.jpg
END:VEVENT
BEGIN:VEVENT
DTSTART;TZID=America/New_York:20240329T210000
DTEND;TZID=America/New_York:20240329T235900
DTSTAMP:20260424T052138
CREATED:20210913T144328Z
LAST-MODIFIED:20240202T190540Z
UID:4002-1711746000-1711756740@sweettimeent.com
SUMMARY:Friday Karaoke at The Brazen Hen
DESCRIPTION:Karaoke Every Friday\n9pm – 12am\nHosted by DJ Sweet Nik!
URL:https://sweettimeent.com/events/friday-karaoke-night-2024-03-29/
LOCATION:The Brazen Hen\, 4 Canal Street\, Westerly\, RI\, 02891\, United States
CATEGORIES:Karaoke
ATTACH;FMTTYPE=image/jpeg:https://sweettimeent.com/wp-content/uploads/2021/09/FB_IMG_1625880869056.jpg
END:VEVENT
BEGIN:VEVENT
DTSTART;TZID=America/New_York:20240327T210000
DTEND;TZID=America/New_York:20240327T235900
DTSTAMP:20260424T052138
CREATED:20221201T185425Z
LAST-MODIFIED:20221201T185425Z
UID:3956-1711573200-1711583940@sweettimeent.com
SUMMARY:Wednesday Karaoke at Friar Tucks
DESCRIPTION:Karaoke every Wednesday night!\nHosted by DJ Deelish \n 
URL:https://sweettimeent.com/events/wednesday-karaoke-at-friar-tucks-2024-03-27/
LOCATION:Friar Tuck’s Tavern\, 12 Water St\, Mystic\, CT\, 06355\, United States
CATEGORIES:Karaoke
ATTACH;FMTTYPE=image/png:https://sweettimeent.com/wp-content/uploads/2022/12/Friar-Tucks-Flyer-11x14-1.png
END:VEVENT
BEGIN:VEVENT
DTSTART;TZID=America/New_York:20240324T203000
DTEND;TZID=America/New_York:20240324T233000
DTSTAMP:20260424T052138
CREATED:20210913T144643Z
LAST-MODIFIED:20210913T144643Z
UID:4094-1711312200-1711323000@sweettimeent.com
SUMMARY:Sunday Karaoke at Harp & Hound
DESCRIPTION:Karaoke Every Sunday\nHosted by DJ Deelish!
URL:https://sweettimeent.com/events/sunday-karaoke-night-2024-03-24/
LOCATION:Harp & Hound\, 4 Pearl Street\, Mystic\, CT\, 06355\, United States
CATEGORIES:Karaoke
ATTACH;FMTTYPE=image/jpeg:https://sweettimeent.com/wp-content/uploads/2021/09/FB_IMG_1627829416471.jpg
END:VEVENT
BEGIN:VEVENT
DTSTART;TZID=America/New_York:20240322T210000
DTEND;TZID=America/New_York:20240322T235900
DTSTAMP:20260424T052138
CREATED:20210913T144328Z
LAST-MODIFIED:20240202T190540Z
UID:4001-1711141200-1711151940@sweettimeent.com
SUMMARY:Friday Karaoke at The Brazen Hen
DESCRIPTION:Karaoke Every Friday\n9pm – 12am\nHosted by DJ Sweet Nik!
URL:https://sweettimeent.com/events/friday-karaoke-night-2024-03-22/
LOCATION:The Brazen Hen\, 4 Canal Street\, Westerly\, RI\, 02891\, United States
CATEGORIES:Karaoke
ATTACH;FMTTYPE=image/jpeg:https://sweettimeent.com/wp-content/uploads/2021/09/FB_IMG_1625880869056.jpg
END:VEVENT
BEGIN:VEVENT
DTSTART;TZID=America/New_York:20240320T210000
DTEND;TZID=America/New_York:20240320T235900
DTSTAMP:20260424T052138
CREATED:20221201T185425Z
LAST-MODIFIED:20221201T185425Z
UID:3955-1710968400-1710979140@sweettimeent.com
SUMMARY:Wednesday Karaoke at Friar Tucks
DESCRIPTION:Karaoke every Wednesday night!\nHosted by DJ Deelish \n 
URL:https://sweettimeent.com/events/wednesday-karaoke-at-friar-tucks-2024-03-20/
LOCATION:Friar Tuck’s Tavern\, 12 Water St\, Mystic\, CT\, 06355\, United States
CATEGORIES:Karaoke
ATTACH;FMTTYPE=image/png:https://sweettimeent.com/wp-content/uploads/2022/12/Friar-Tucks-Flyer-11x14-1.png
END:VEVENT
BEGIN:VEVENT
DTSTART;TZID=America/New_York:20240317T203000
DTEND;TZID=America/New_York:20240317T233000
DTSTAMP:20260424T052138
CREATED:20210913T144643Z
LAST-MODIFIED:20210913T144643Z
UID:4093-1710707400-1710718200@sweettimeent.com
SUMMARY:Sunday Karaoke at Harp & Hound
DESCRIPTION:Karaoke Every Sunday\nHosted by DJ Deelish!
URL:https://sweettimeent.com/events/sunday-karaoke-night-2024-03-17/
LOCATION:Harp & Hound\, 4 Pearl Street\, Mystic\, CT\, 06355\, United States
CATEGORIES:Karaoke
ATTACH;FMTTYPE=image/jpeg:https://sweettimeent.com/wp-content/uploads/2021/09/FB_IMG_1627829416471.jpg
END:VEVENT
BEGIN:VEVENT
DTSTART;TZID=America/New_York:20240315T210000
DTEND;TZID=America/New_York:20240315T235900
DTSTAMP:20260424T052138
CREATED:20210913T144328Z
LAST-MODIFIED:20240202T190540Z
UID:4000-1710536400-1710547140@sweettimeent.com
SUMMARY:Friday Karaoke at The Brazen Hen
DESCRIPTION:Karaoke Every Friday\n9pm – 12am\nHosted by DJ Sweet Nik!
URL:https://sweettimeent.com/events/friday-karaoke-night-2024-03-15/
LOCATION:The Brazen Hen\, 4 Canal Street\, Westerly\, RI\, 02891\, United States
CATEGORIES:Karaoke
ATTACH;FMTTYPE=image/jpeg:https://sweettimeent.com/wp-content/uploads/2021/09/FB_IMG_1625880869056.jpg
END:VEVENT
BEGIN:VEVENT
DTSTART;TZID=America/New_York:20240313T210000
DTEND;TZID=America/New_York:20240313T235900
DTSTAMP:20260424T052138
CREATED:20221201T185425Z
LAST-MODIFIED:20221201T185425Z
UID:3954-1710363600-1710374340@sweettimeent.com
SUMMARY:Wednesday Karaoke at Friar Tucks
DESCRIPTION:Karaoke every Wednesday night!\nHosted by DJ Deelish \n 
URL:https://sweettimeent.com/events/wednesday-karaoke-at-friar-tucks-2024-03-13/
LOCATION:Friar Tuck’s Tavern\, 12 Water St\, Mystic\, CT\, 06355\, United States
CATEGORIES:Karaoke
ATTACH;FMTTYPE=image/png:https://sweettimeent.com/wp-content/uploads/2022/12/Friar-Tucks-Flyer-11x14-1.png
END:VEVENT
BEGIN:VEVENT
DTSTART;TZID=America/New_York:20240310T203000
DTEND;TZID=America/New_York:20240310T233000
DTSTAMP:20260424T052138
CREATED:20210913T144643Z
LAST-MODIFIED:20210913T144643Z
UID:4092-1710102600-1710113400@sweettimeent.com
SUMMARY:Sunday Karaoke at Harp & Hound
DESCRIPTION:Karaoke Every Sunday\nHosted by DJ Deelish!
URL:https://sweettimeent.com/events/sunday-karaoke-night-2024-03-10/
LOCATION:Harp & Hound\, 4 Pearl Street\, Mystic\, CT\, 06355\, United States
CATEGORIES:Karaoke
ATTACH;FMTTYPE=image/jpeg:https://sweettimeent.com/wp-content/uploads/2021/09/FB_IMG_1627829416471.jpg
END:VEVENT
BEGIN:VEVENT
DTSTART;TZID=America/New_York:20240308T210000
DTEND;TZID=America/New_York:20240308T235900
DTSTAMP:20260424T052138
CREATED:20210913T144328Z
LAST-MODIFIED:20240202T190540Z
UID:3999-1709931600-1709942340@sweettimeent.com
SUMMARY:Friday Karaoke at The Brazen Hen
DESCRIPTION:Karaoke Every Friday\n9pm – 12am\nHosted by DJ Sweet Nik!
URL:https://sweettimeent.com/events/friday-karaoke-night-2024-03-08/
LOCATION:The Brazen Hen\, 4 Canal Street\, Westerly\, RI\, 02891\, United States
CATEGORIES:Karaoke
ATTACH;FMTTYPE=image/jpeg:https://sweettimeent.com/wp-content/uploads/2021/09/FB_IMG_1625880869056.jpg
END:VEVENT
BEGIN:VEVENT
DTSTART;TZID=America/New_York:20240306T210000
DTEND;TZID=America/New_York:20240306T235900
DTSTAMP:20260424T052138
CREATED:20221201T185425Z
LAST-MODIFIED:20221201T185425Z
UID:3953-1709758800-1709769540@sweettimeent.com
SUMMARY:Wednesday Karaoke at Friar Tucks
DESCRIPTION:Karaoke every Wednesday night!\nHosted by DJ Deelish \n 
URL:https://sweettimeent.com/events/wednesday-karaoke-at-friar-tucks-2024-03-06/
LOCATION:Friar Tuck’s Tavern\, 12 Water St\, Mystic\, CT\, 06355\, United States
CATEGORIES:Karaoke
ATTACH;FMTTYPE=image/png:https://sweettimeent.com/wp-content/uploads/2022/12/Friar-Tucks-Flyer-11x14-1.png
END:VEVENT
BEGIN:VEVENT
DTSTART;TZID=America/New_York:20240303T203000
DTEND;TZID=America/New_York:20240303T233000
DTSTAMP:20260424T052138
CREATED:20210913T144643Z
LAST-MODIFIED:20210913T144643Z
UID:4091-1709497800-1709508600@sweettimeent.com
SUMMARY:Sunday Karaoke at Harp & Hound
DESCRIPTION:Karaoke Every Sunday\nHosted by DJ Deelish!
URL:https://sweettimeent.com/events/sunday-karaoke-night-2024-03-03/
LOCATION:Harp & Hound\, 4 Pearl Street\, Mystic\, CT\, 06355\, United States
CATEGORIES:Karaoke
ATTACH;FMTTYPE=image/jpeg:https://sweettimeent.com/wp-content/uploads/2021/09/FB_IMG_1627829416471.jpg
END:VEVENT
BEGIN:VEVENT
DTSTART;TZID=America/New_York:20240301T210000
DTEND;TZID=America/New_York:20240301T235900
DTSTAMP:20260424T052138
CREATED:20210913T144328Z
LAST-MODIFIED:20240202T190540Z
UID:3998-1709326800-1709337540@sweettimeent.com
SUMMARY:Friday Karaoke at The Brazen Hen
DESCRIPTION:Karaoke Every Friday\n9pm – 12am\nHosted by DJ Sweet Nik!
URL:https://sweettimeent.com/events/friday-karaoke-night-2024-03-01/
LOCATION:The Brazen Hen\, 4 Canal Street\, Westerly\, RI\, 02891\, United States
CATEGORIES:Karaoke
ATTACH;FMTTYPE=image/jpeg:https://sweettimeent.com/wp-content/uploads/2021/09/FB_IMG_1625880869056.jpg
END:VEVENT
BEGIN:VEVENT
DTSTART;TZID=America/New_York:20240228T210000
DTEND;TZID=America/New_York:20240228T235900
DTSTAMP:20260424T052138
CREATED:20221201T185425Z
LAST-MODIFIED:20221201T185425Z
UID:3952-1709154000-1709164740@sweettimeent.com
SUMMARY:Wednesday Karaoke at Friar Tucks
DESCRIPTION:Karaoke every Wednesday night!\nHosted by DJ Deelish \n 
URL:https://sweettimeent.com/events/wednesday-karaoke-at-friar-tucks-2024-02-28/
LOCATION:Friar Tuck’s Tavern\, 12 Water St\, Mystic\, CT\, 06355\, United States
CATEGORIES:Karaoke
ATTACH;FMTTYPE=image/png:https://sweettimeent.com/wp-content/uploads/2022/12/Friar-Tucks-Flyer-11x14-1.png
END:VEVENT
BEGIN:VEVENT
DTSTART;TZID=America/New_York:20240225T203000
DTEND;TZID=America/New_York:20240225T233000
DTSTAMP:20260424T052138
CREATED:20210913T144643Z
LAST-MODIFIED:20210913T144643Z
UID:4090-1708893000-1708903800@sweettimeent.com
SUMMARY:Sunday Karaoke at Harp & Hound
DESCRIPTION:Karaoke Every Sunday\nHosted by DJ Deelish!
URL:https://sweettimeent.com/events/sunday-karaoke-night-2024-02-25/
LOCATION:Harp & Hound\, 4 Pearl Street\, Mystic\, CT\, 06355\, United States
CATEGORIES:Karaoke
ATTACH;FMTTYPE=image/jpeg:https://sweettimeent.com/wp-content/uploads/2021/09/FB_IMG_1627829416471.jpg
END:VEVENT
BEGIN:VEVENT
DTSTART;TZID=America/New_York:20240223T210000
DTEND;TZID=America/New_York:20240223T235900
DTSTAMP:20260424T052138
CREATED:20210913T144328Z
LAST-MODIFIED:20240202T190539Z
UID:3997-1708722000-1708732740@sweettimeent.com
SUMMARY:Friday Karaoke at The Brazen Hen
DESCRIPTION:Karaoke Every Friday\n9pm – 12am\nHosted by DJ Sweet Nik!
URL:https://sweettimeent.com/events/friday-karaoke-night-2024-02-23/
LOCATION:The Brazen Hen\, 4 Canal Street\, Westerly\, RI\, 02891\, United States
CATEGORIES:Karaoke
ATTACH;FMTTYPE=image/jpeg:https://sweettimeent.com/wp-content/uploads/2021/09/FB_IMG_1625880869056.jpg
END:VEVENT
BEGIN:VEVENT
DTSTART;TZID=America/New_York:20240221T210000
DTEND;TZID=America/New_York:20240221T235900
DTSTAMP:20260424T052138
CREATED:20221201T185425Z
LAST-MODIFIED:20221201T185425Z
UID:3951-1708549200-1708559940@sweettimeent.com
SUMMARY:Wednesday Karaoke at Friar Tucks
DESCRIPTION:Karaoke every Wednesday night!\nHosted by DJ Deelish \n 
URL:https://sweettimeent.com/events/wednesday-karaoke-at-friar-tucks-2024-02-21/
LOCATION:Friar Tuck’s Tavern\, 12 Water St\, Mystic\, CT\, 06355\, United States
CATEGORIES:Karaoke
ATTACH;FMTTYPE=image/png:https://sweettimeent.com/wp-content/uploads/2022/12/Friar-Tucks-Flyer-11x14-1.png
END:VEVENT
BEGIN:VEVENT
DTSTART;TZID=America/New_York:20240218T203000
DTEND;TZID=America/New_York:20240218T233000
DTSTAMP:20260424T052138
CREATED:20210913T144643Z
LAST-MODIFIED:20210913T144643Z
UID:4089-1708288200-1708299000@sweettimeent.com
SUMMARY:Sunday Karaoke at Harp & Hound
DESCRIPTION:Karaoke Every Sunday\nHosted by DJ Deelish!
URL:https://sweettimeent.com/events/sunday-karaoke-night-2024-02-18/
LOCATION:Harp & Hound\, 4 Pearl Street\, Mystic\, CT\, 06355\, United States
CATEGORIES:Karaoke
ATTACH;FMTTYPE=image/jpeg:https://sweettimeent.com/wp-content/uploads/2021/09/FB_IMG_1627829416471.jpg
END:VEVENT
BEGIN:VEVENT
DTSTART;TZID=America/New_York:20240216T210000
DTEND;TZID=America/New_York:20240216T235900
DTSTAMP:20260424T052138
CREATED:20210913T144328Z
LAST-MODIFIED:20240202T190539Z
UID:3996-1708117200-1708127940@sweettimeent.com
SUMMARY:Friday Karaoke at The Brazen Hen
DESCRIPTION:Karaoke Every Friday\n9pm – 12am\nHosted by DJ Sweet Nik!
URL:https://sweettimeent.com/events/friday-karaoke-night-2024-02-16/
LOCATION:The Brazen Hen\, 4 Canal Street\, Westerly\, RI\, 02891\, United States
CATEGORIES:Karaoke
ATTACH;FMTTYPE=image/jpeg:https://sweettimeent.com/wp-content/uploads/2021/09/FB_IMG_1625880869056.jpg
END:VEVENT
BEGIN:VEVENT
DTSTART;TZID=America/New_York:20240214T210000
DTEND;TZID=America/New_York:20240214T235900
DTSTAMP:20260424T052138
CREATED:20221201T185425Z
LAST-MODIFIED:20221201T185425Z
UID:3950-1707944400-1707955140@sweettimeent.com
SUMMARY:Wednesday Karaoke at Friar Tucks
DESCRIPTION:Karaoke every Wednesday night!\nHosted by DJ Deelish \n 
URL:https://sweettimeent.com/events/wednesday-karaoke-at-friar-tucks-2024-02-14/
LOCATION:Friar Tuck’s Tavern\, 12 Water St\, Mystic\, CT\, 06355\, United States
CATEGORIES:Karaoke
ATTACH;FMTTYPE=image/png:https://sweettimeent.com/wp-content/uploads/2022/12/Friar-Tucks-Flyer-11x14-1.png
END:VEVENT
BEGIN:VEVENT
DTSTART;TZID=America/New_York:20240209T210000
DTEND;TZID=America/New_York:20240209T235900
DTSTAMP:20260424T052138
CREATED:20210913T144328Z
LAST-MODIFIED:20240202T190539Z
UID:3995-1707512400-1707523140@sweettimeent.com
SUMMARY:Friday Karaoke at The Brazen Hen
DESCRIPTION:Karaoke Every Friday\n9pm – 12am\nHosted by DJ Sweet Nik!
URL:https://sweettimeent.com/events/friday-karaoke-night-2024-02-09/
LOCATION:The Brazen Hen\, 4 Canal Street\, Westerly\, RI\, 02891\, United States
CATEGORIES:Karaoke
ATTACH;FMTTYPE=image/jpeg:https://sweettimeent.com/wp-content/uploads/2021/09/FB_IMG_1625880869056.jpg
END:VEVENT
END:VCALENDAR