BEGIN:VCALENDAR
VERSION:2.0
PRODID:-//Sweet Time Entertainment - ECPv6.13.2.1//NONSGML v1.0//EN
CALSCALE:GREGORIAN
METHOD:PUBLISH
X-WR-CALNAME:Sweet Time Entertainment
X-ORIGINAL-URL:https://sweettimeent.com
X-WR-CALDESC:Events for Sweet Time Entertainment
REFRESH-INTERVAL;VALUE=DURATION:PT1H
X-Robots-Tag:noindex
X-PUBLISHED-TTL:PT1H
BEGIN:VTIMEZONE
TZID:America/New_York
BEGIN:DAYLIGHT
TZOFFSETFROM:-0500
TZOFFSETTO:-0400
TZNAME:EDT
DTSTART:20240310T070000
END:DAYLIGHT
BEGIN:STANDARD
TZOFFSETFROM:-0400
TZOFFSETTO:-0500
TZNAME:EST
DTSTART:20241103T060000
END:STANDARD
END:VTIMEZONE
BEGIN:VEVENT
DTSTART;TZID=America/New_York:20240223T210000
DTEND;TZID=America/New_York:20240223T235900
DTSTAMP:20260424T082437
CREATED:20210913T144328Z
LAST-MODIFIED:20240202T190539Z
UID:3997-1708722000-1708732740@sweettimeent.com
SUMMARY:Friday Karaoke at The Brazen Hen
DESCRIPTION:Karaoke Every Friday\n9pm – 12am\nHosted by DJ Sweet Nik!
URL:https://sweettimeent.com/events/friday-karaoke-night-2024-02-23/
LOCATION:The Brazen Hen\, 4 Canal Street\, Westerly\, RI\, 02891\, United States
CATEGORIES:Karaoke
ATTACH;FMTTYPE=image/jpeg:https://sweettimeent.com/wp-content/uploads/2021/09/FB_IMG_1625880869056.jpg
END:VEVENT
BEGIN:VEVENT
DTSTART;TZID=America/New_York:20240221T210000
DTEND;TZID=America/New_York:20240221T235900
DTSTAMP:20260424T082437
CREATED:20221201T185425Z
LAST-MODIFIED:20221201T185425Z
UID:3951-1708549200-1708559940@sweettimeent.com
SUMMARY:Wednesday Karaoke at Friar Tucks
DESCRIPTION:Karaoke every Wednesday night!\nHosted by DJ Deelish \n 
URL:https://sweettimeent.com/events/wednesday-karaoke-at-friar-tucks-2024-02-21/
LOCATION:Friar Tuck’s Tavern\, 12 Water St\, Mystic\, CT\, 06355\, United States
CATEGORIES:Karaoke
ATTACH;FMTTYPE=image/png:https://sweettimeent.com/wp-content/uploads/2022/12/Friar-Tucks-Flyer-11x14-1.png
END:VEVENT
BEGIN:VEVENT
DTSTART;TZID=America/New_York:20240218T203000
DTEND;TZID=America/New_York:20240218T233000
DTSTAMP:20260424T082437
CREATED:20210913T144643Z
LAST-MODIFIED:20210913T144643Z
UID:4089-1708288200-1708299000@sweettimeent.com
SUMMARY:Sunday Karaoke at Harp & Hound
DESCRIPTION:Karaoke Every Sunday\nHosted by DJ Deelish!
URL:https://sweettimeent.com/events/sunday-karaoke-night-2024-02-18/
LOCATION:Harp & Hound\, 4 Pearl Street\, Mystic\, CT\, 06355\, United States
CATEGORIES:Karaoke
ATTACH;FMTTYPE=image/jpeg:https://sweettimeent.com/wp-content/uploads/2021/09/FB_IMG_1627829416471.jpg
END:VEVENT
BEGIN:VEVENT
DTSTART;TZID=America/New_York:20240216T210000
DTEND;TZID=America/New_York:20240216T235900
DTSTAMP:20260424T082437
CREATED:20210913T144328Z
LAST-MODIFIED:20240202T190539Z
UID:3996-1708117200-1708127940@sweettimeent.com
SUMMARY:Friday Karaoke at The Brazen Hen
DESCRIPTION:Karaoke Every Friday\n9pm – 12am\nHosted by DJ Sweet Nik!
URL:https://sweettimeent.com/events/friday-karaoke-night-2024-02-16/
LOCATION:The Brazen Hen\, 4 Canal Street\, Westerly\, RI\, 02891\, United States
CATEGORIES:Karaoke
ATTACH;FMTTYPE=image/jpeg:https://sweettimeent.com/wp-content/uploads/2021/09/FB_IMG_1625880869056.jpg
END:VEVENT
BEGIN:VEVENT
DTSTART;TZID=America/New_York:20240214T210000
DTEND;TZID=America/New_York:20240214T235900
DTSTAMP:20260424T082437
CREATED:20221201T185425Z
LAST-MODIFIED:20221201T185425Z
UID:3950-1707944400-1707955140@sweettimeent.com
SUMMARY:Wednesday Karaoke at Friar Tucks
DESCRIPTION:Karaoke every Wednesday night!\nHosted by DJ Deelish \n 
URL:https://sweettimeent.com/events/wednesday-karaoke-at-friar-tucks-2024-02-14/
LOCATION:Friar Tuck’s Tavern\, 12 Water St\, Mystic\, CT\, 06355\, United States
CATEGORIES:Karaoke
ATTACH;FMTTYPE=image/png:https://sweettimeent.com/wp-content/uploads/2022/12/Friar-Tucks-Flyer-11x14-1.png
END:VEVENT
BEGIN:VEVENT
DTSTART;TZID=America/New_York:20240209T210000
DTEND;TZID=America/New_York:20240209T235900
DTSTAMP:20260424T082437
CREATED:20210913T144328Z
LAST-MODIFIED:20240202T190539Z
UID:3995-1707512400-1707523140@sweettimeent.com
SUMMARY:Friday Karaoke at The Brazen Hen
DESCRIPTION:Karaoke Every Friday\n9pm – 12am\nHosted by DJ Sweet Nik!
URL:https://sweettimeent.com/events/friday-karaoke-night-2024-02-09/
LOCATION:The Brazen Hen\, 4 Canal Street\, Westerly\, RI\, 02891\, United States
CATEGORIES:Karaoke
ATTACH;FMTTYPE=image/jpeg:https://sweettimeent.com/wp-content/uploads/2021/09/FB_IMG_1625880869056.jpg
END:VEVENT
BEGIN:VEVENT
DTSTART;TZID=America/New_York:20240207T210000
DTEND;TZID=America/New_York:20240207T235900
DTSTAMP:20260424T082437
CREATED:20221201T185425Z
LAST-MODIFIED:20240202T190243Z
UID:3857-1707339600-1707350340@sweettimeent.com
SUMMARY:Wednesday Karaoke at Friar Tucks
DESCRIPTION:Karaoke every Wednesday night!\nHosted by DJ Deelish \n 
URL:https://sweettimeent.com/events/wednesday-karaoke-at-friar-tucks/
LOCATION:Friar Tuck’s Tavern\, 12 Water St\, Mystic\, CT\, 06355\, United States
CATEGORIES:Karaoke
ATTACH;FMTTYPE=image/png:https://sweettimeent.com/wp-content/uploads/2022/12/Friar-Tucks-Flyer-11x14-1.png
END:VEVENT
BEGIN:VEVENT
DTSTART;TZID=America/New_York:20240204T203000
DTEND;TZID=America/New_York:20240204T233000
DTSTAMP:20260424T082437
CREATED:20210913T144643Z
LAST-MODIFIED:20240202T191731Z
UID:2883-1707078600-1707089400@sweettimeent.com
SUMMARY:Sunday Karaoke at Harp & Hound
DESCRIPTION:Karaoke Every Sunday\nHosted by DJ Deelish!
URL:https://sweettimeent.com/events/sunday-karaoke-night/
LOCATION:Harp & Hound\, 4 Pearl Street\, Mystic\, CT\, 06355\, United States
CATEGORIES:Karaoke
ATTACH;FMTTYPE=image/jpeg:https://sweettimeent.com/wp-content/uploads/2021/09/FB_IMG_1627829416471.jpg
END:VEVENT
BEGIN:VEVENT
DTSTART;TZID=America/New_York:20240202T210000
DTEND;TZID=America/New_York:20240202T235900
DTSTAMP:20260424T082437
CREATED:20210913T144328Z
LAST-MODIFIED:20240202T190537Z
UID:2864-1706907600-1706918340@sweettimeent.com
SUMMARY:Friday Karaoke at The Brazen Hen
DESCRIPTION:Karaoke Every Friday\n9pm – 12am\nHosted by DJ Sweet Nik!
URL:https://sweettimeent.com/events/friday-karaoke-night/
LOCATION:The Brazen Hen\, 4 Canal Street\, Westerly\, RI\, 02891\, United States
CATEGORIES:Karaoke
ATTACH;FMTTYPE=image/jpeg:https://sweettimeent.com/wp-content/uploads/2021/09/FB_IMG_1625880869056.jpg
END:VEVENT
END:VCALENDAR