BEGIN:VCALENDAR
VERSION:2.0
PRODID:-//Sweet Time Entertainment - ECPv6.13.2.1//NONSGML v1.0//EN
CALSCALE:GREGORIAN
METHOD:PUBLISH
X-WR-CALNAME:Sweet Time Entertainment
X-ORIGINAL-URL:https://sweettimeent.com
X-WR-CALDESC:Events for Sweet Time Entertainment
REFRESH-INTERVAL;VALUE=DURATION:PT1H
X-Robots-Tag:noindex
X-PUBLISHED-TTL:PT1H
BEGIN:VTIMEZONE
TZID:America/New_York
BEGIN:DAYLIGHT
TZOFFSETFROM:-0500
TZOFFSETTO:-0400
TZNAME:EDT
DTSTART:20240310T070000
END:DAYLIGHT
BEGIN:STANDARD
TZOFFSETFROM:-0400
TZOFFSETTO:-0500
TZNAME:EST
DTSTART:20241103T060000
END:STANDARD
END:VTIMEZONE
BEGIN:VEVENT
DTSTART;TZID=America/New_York:20241101T210000
DTEND;TZID=America/New_York:20241101T235900
DTSTAMP:20260423T145952
CREATED:20210913T144328Z
LAST-MODIFIED:20240202T190548Z
UID:4033-1730494800-1730505540@sweettimeent.com
SUMMARY:Friday Karaoke at The Brazen Hen
DESCRIPTION:Karaoke Every Friday\n9pm – 12am\nHosted by DJ Sweet Nik!
URL:https://sweettimeent.com/events/friday-karaoke-night-2024-11-01/
LOCATION:The Brazen Hen\, 4 Canal Street\, Westerly\, RI\, 02891\, United States
CATEGORIES:Karaoke
ATTACH;FMTTYPE=image/jpeg:https://sweettimeent.com/wp-content/uploads/2021/09/FB_IMG_1625880869056.jpg
END:VEVENT
BEGIN:VEVENT
DTSTART;TZID=America/New_York:20241030T210000
DTEND;TZID=America/New_York:20241030T235900
DTSTAMP:20260423T145952
CREATED:20221201T185425Z
LAST-MODIFIED:20221201T185425Z
UID:3987-1730322000-1730332740@sweettimeent.com
SUMMARY:Wednesday Karaoke at Friar Tucks
DESCRIPTION:Karaoke every Wednesday night!\nHosted by DJ Deelish \n 
URL:https://sweettimeent.com/events/wednesday-karaoke-at-friar-tucks-2024-10-30/
LOCATION:Friar Tuck’s Tavern\, 12 Water St\, Mystic\, CT\, 06355\, United States
CATEGORIES:Karaoke
ATTACH;FMTTYPE=image/png:https://sweettimeent.com/wp-content/uploads/2022/12/Friar-Tucks-Flyer-11x14-1.png
END:VEVENT
BEGIN:VEVENT
DTSTART;TZID=America/New_York:20241027T203000
DTEND;TZID=America/New_York:20241027T233000
DTSTAMP:20260423T145952
CREATED:20210913T144643Z
LAST-MODIFIED:20210913T144643Z
UID:4125-1730061000-1730071800@sweettimeent.com
SUMMARY:Sunday Karaoke at Harp & Hound
DESCRIPTION:Karaoke Every Sunday\nHosted by DJ Deelish!
URL:https://sweettimeent.com/events/sunday-karaoke-night-2024-10-27/
LOCATION:Harp & Hound\, 4 Pearl Street\, Mystic\, CT\, 06355\, United States
CATEGORIES:Karaoke
ATTACH;FMTTYPE=image/jpeg:https://sweettimeent.com/wp-content/uploads/2021/09/FB_IMG_1627829416471.jpg
END:VEVENT
BEGIN:VEVENT
DTSTART;TZID=America/New_York:20241025T210000
DTEND;TZID=America/New_York:20241025T235900
DTSTAMP:20260423T145952
CREATED:20210913T144328Z
LAST-MODIFIED:20240202T190548Z
UID:4032-1729890000-1729900740@sweettimeent.com
SUMMARY:Friday Karaoke at The Brazen Hen
DESCRIPTION:Karaoke Every Friday\n9pm – 12am\nHosted by DJ Sweet Nik!
URL:https://sweettimeent.com/events/friday-karaoke-night-2024-10-25/
LOCATION:The Brazen Hen\, 4 Canal Street\, Westerly\, RI\, 02891\, United States
CATEGORIES:Karaoke
ATTACH;FMTTYPE=image/jpeg:https://sweettimeent.com/wp-content/uploads/2021/09/FB_IMG_1625880869056.jpg
END:VEVENT
BEGIN:VEVENT
DTSTART;TZID=America/New_York:20241023T210000
DTEND;TZID=America/New_York:20241023T235900
DTSTAMP:20260423T145952
CREATED:20221201T185425Z
LAST-MODIFIED:20221201T185425Z
UID:3986-1729717200-1729727940@sweettimeent.com
SUMMARY:Wednesday Karaoke at Friar Tucks
DESCRIPTION:Karaoke every Wednesday night!\nHosted by DJ Deelish \n 
URL:https://sweettimeent.com/events/wednesday-karaoke-at-friar-tucks-2024-10-23/
LOCATION:Friar Tuck’s Tavern\, 12 Water St\, Mystic\, CT\, 06355\, United States
CATEGORIES:Karaoke
ATTACH;FMTTYPE=image/png:https://sweettimeent.com/wp-content/uploads/2022/12/Friar-Tucks-Flyer-11x14-1.png
END:VEVENT
BEGIN:VEVENT
DTSTART;TZID=America/New_York:20241020T203000
DTEND;TZID=America/New_York:20241020T233000
DTSTAMP:20260423T145952
CREATED:20210913T144643Z
LAST-MODIFIED:20210913T144643Z
UID:4124-1729456200-1729467000@sweettimeent.com
SUMMARY:Sunday Karaoke at Harp & Hound
DESCRIPTION:Karaoke Every Sunday\nHosted by DJ Deelish!
URL:https://sweettimeent.com/events/sunday-karaoke-night-2024-10-20/
LOCATION:Harp & Hound\, 4 Pearl Street\, Mystic\, CT\, 06355\, United States
CATEGORIES:Karaoke
ATTACH;FMTTYPE=image/jpeg:https://sweettimeent.com/wp-content/uploads/2021/09/FB_IMG_1627829416471.jpg
END:VEVENT
BEGIN:VEVENT
DTSTART;TZID=America/New_York:20241018T210000
DTEND;TZID=America/New_York:20241018T235900
DTSTAMP:20260423T145952
CREATED:20210913T144328Z
LAST-MODIFIED:20240202T190548Z
UID:4031-1729285200-1729295940@sweettimeent.com
SUMMARY:Friday Karaoke at The Brazen Hen
DESCRIPTION:Karaoke Every Friday\n9pm – 12am\nHosted by DJ Sweet Nik!
URL:https://sweettimeent.com/events/friday-karaoke-night-2024-10-18/
LOCATION:The Brazen Hen\, 4 Canal Street\, Westerly\, RI\, 02891\, United States
CATEGORIES:Karaoke
ATTACH;FMTTYPE=image/jpeg:https://sweettimeent.com/wp-content/uploads/2021/09/FB_IMG_1625880869056.jpg
END:VEVENT
BEGIN:VEVENT
DTSTART;TZID=America/New_York:20241016T210000
DTEND;TZID=America/New_York:20241016T235900
DTSTAMP:20260423T145952
CREATED:20221201T185425Z
LAST-MODIFIED:20221201T185425Z
UID:3985-1729112400-1729123140@sweettimeent.com
SUMMARY:Wednesday Karaoke at Friar Tucks
DESCRIPTION:Karaoke every Wednesday night!\nHosted by DJ Deelish \n 
URL:https://sweettimeent.com/events/wednesday-karaoke-at-friar-tucks-2024-10-16/
LOCATION:Friar Tuck’s Tavern\, 12 Water St\, Mystic\, CT\, 06355\, United States
CATEGORIES:Karaoke
ATTACH;FMTTYPE=image/png:https://sweettimeent.com/wp-content/uploads/2022/12/Friar-Tucks-Flyer-11x14-1.png
END:VEVENT
BEGIN:VEVENT
DTSTART;TZID=America/New_York:20241013T203000
DTEND;TZID=America/New_York:20241013T233000
DTSTAMP:20260423T145952
CREATED:20210913T144643Z
LAST-MODIFIED:20210913T144643Z
UID:4123-1728851400-1728862200@sweettimeent.com
SUMMARY:Sunday Karaoke at Harp & Hound
DESCRIPTION:Karaoke Every Sunday\nHosted by DJ Deelish!
URL:https://sweettimeent.com/events/sunday-karaoke-night-2024-10-13/
LOCATION:Harp & Hound\, 4 Pearl Street\, Mystic\, CT\, 06355\, United States
CATEGORIES:Karaoke
ATTACH;FMTTYPE=image/jpeg:https://sweettimeent.com/wp-content/uploads/2021/09/FB_IMG_1627829416471.jpg
END:VEVENT
BEGIN:VEVENT
DTSTART;TZID=America/New_York:20241011T210000
DTEND;TZID=America/New_York:20241011T235900
DTSTAMP:20260423T145952
CREATED:20210913T144328Z
LAST-MODIFIED:20240202T190548Z
UID:4030-1728680400-1728691140@sweettimeent.com
SUMMARY:Friday Karaoke at The Brazen Hen
DESCRIPTION:Karaoke Every Friday\n9pm – 12am\nHosted by DJ Sweet Nik!
URL:https://sweettimeent.com/events/friday-karaoke-night-2024-10-11/
LOCATION:The Brazen Hen\, 4 Canal Street\, Westerly\, RI\, 02891\, United States
CATEGORIES:Karaoke
ATTACH;FMTTYPE=image/jpeg:https://sweettimeent.com/wp-content/uploads/2021/09/FB_IMG_1625880869056.jpg
END:VEVENT
BEGIN:VEVENT
DTSTART;TZID=America/New_York:20241009T210000
DTEND;TZID=America/New_York:20241009T235900
DTSTAMP:20260423T145952
CREATED:20221201T185425Z
LAST-MODIFIED:20221201T185425Z
UID:3984-1728507600-1728518340@sweettimeent.com
SUMMARY:Wednesday Karaoke at Friar Tucks
DESCRIPTION:Karaoke every Wednesday night!\nHosted by DJ Deelish \n 
URL:https://sweettimeent.com/events/wednesday-karaoke-at-friar-tucks-2024-10-09/
LOCATION:Friar Tuck’s Tavern\, 12 Water St\, Mystic\, CT\, 06355\, United States
CATEGORIES:Karaoke
ATTACH;FMTTYPE=image/png:https://sweettimeent.com/wp-content/uploads/2022/12/Friar-Tucks-Flyer-11x14-1.png
END:VEVENT
BEGIN:VEVENT
DTSTART;TZID=America/New_York:20241006T203000
DTEND;TZID=America/New_York:20241006T233000
DTSTAMP:20260423T145952
CREATED:20210913T144643Z
LAST-MODIFIED:20210913T144643Z
UID:4122-1728246600-1728257400@sweettimeent.com
SUMMARY:Sunday Karaoke at Harp & Hound
DESCRIPTION:Karaoke Every Sunday\nHosted by DJ Deelish!
URL:https://sweettimeent.com/events/sunday-karaoke-night-2024-10-06/
LOCATION:Harp & Hound\, 4 Pearl Street\, Mystic\, CT\, 06355\, United States
CATEGORIES:Karaoke
ATTACH;FMTTYPE=image/jpeg:https://sweettimeent.com/wp-content/uploads/2021/09/FB_IMG_1627829416471.jpg
END:VEVENT
BEGIN:VEVENT
DTSTART;TZID=America/New_York:20241004T210000
DTEND;TZID=America/New_York:20241004T235900
DTSTAMP:20260423T145952
CREATED:20210913T144328Z
LAST-MODIFIED:20240202T190547Z
UID:4029-1728075600-1728086340@sweettimeent.com
SUMMARY:Friday Karaoke at The Brazen Hen
DESCRIPTION:Karaoke Every Friday\n9pm – 12am\nHosted by DJ Sweet Nik!
URL:https://sweettimeent.com/events/friday-karaoke-night-2024-10-04/
LOCATION:The Brazen Hen\, 4 Canal Street\, Westerly\, RI\, 02891\, United States
CATEGORIES:Karaoke
ATTACH;FMTTYPE=image/jpeg:https://sweettimeent.com/wp-content/uploads/2021/09/FB_IMG_1625880869056.jpg
END:VEVENT
BEGIN:VEVENT
DTSTART;TZID=America/New_York:20241002T210000
DTEND;TZID=America/New_York:20241002T235900
DTSTAMP:20260423T145952
CREATED:20221201T185425Z
LAST-MODIFIED:20221201T185425Z
UID:3983-1727902800-1727913540@sweettimeent.com
SUMMARY:Wednesday Karaoke at Friar Tucks
DESCRIPTION:Karaoke every Wednesday night!\nHosted by DJ Deelish \n 
URL:https://sweettimeent.com/events/wednesday-karaoke-at-friar-tucks-2024-10-02/
LOCATION:Friar Tuck’s Tavern\, 12 Water St\, Mystic\, CT\, 06355\, United States
CATEGORIES:Karaoke
ATTACH;FMTTYPE=image/png:https://sweettimeent.com/wp-content/uploads/2022/12/Friar-Tucks-Flyer-11x14-1.png
END:VEVENT
BEGIN:VEVENT
DTSTART;TZID=America/New_York:20240929T203000
DTEND;TZID=America/New_York:20240929T233000
DTSTAMP:20260423T145952
CREATED:20210913T144643Z
LAST-MODIFIED:20210913T144643Z
UID:4121-1727641800-1727652600@sweettimeent.com
SUMMARY:Sunday Karaoke at Harp & Hound
DESCRIPTION:Karaoke Every Sunday\nHosted by DJ Deelish!
URL:https://sweettimeent.com/events/sunday-karaoke-night-2024-09-29/
LOCATION:Harp & Hound\, 4 Pearl Street\, Mystic\, CT\, 06355\, United States
CATEGORIES:Karaoke
ATTACH;FMTTYPE=image/jpeg:https://sweettimeent.com/wp-content/uploads/2021/09/FB_IMG_1627829416471.jpg
END:VEVENT
BEGIN:VEVENT
DTSTART;TZID=America/New_York:20240927T210000
DTEND;TZID=America/New_York:20240927T235900
DTSTAMP:20260423T145952
CREATED:20210913T144328Z
LAST-MODIFIED:20240202T190547Z
UID:4028-1727470800-1727481540@sweettimeent.com
SUMMARY:Friday Karaoke at The Brazen Hen
DESCRIPTION:Karaoke Every Friday\n9pm – 12am\nHosted by DJ Sweet Nik!
URL:https://sweettimeent.com/events/friday-karaoke-night-2024-09-27/
LOCATION:The Brazen Hen\, 4 Canal Street\, Westerly\, RI\, 02891\, United States
CATEGORIES:Karaoke
ATTACH;FMTTYPE=image/jpeg:https://sweettimeent.com/wp-content/uploads/2021/09/FB_IMG_1625880869056.jpg
END:VEVENT
BEGIN:VEVENT
DTSTART;TZID=America/New_York:20240925T210000
DTEND;TZID=America/New_York:20240925T235900
DTSTAMP:20260423T145952
CREATED:20221201T185425Z
LAST-MODIFIED:20221201T185425Z
UID:3982-1727298000-1727308740@sweettimeent.com
SUMMARY:Wednesday Karaoke at Friar Tucks
DESCRIPTION:Karaoke every Wednesday night!\nHosted by DJ Deelish \n 
URL:https://sweettimeent.com/events/wednesday-karaoke-at-friar-tucks-2024-09-25/
LOCATION:Friar Tuck’s Tavern\, 12 Water St\, Mystic\, CT\, 06355\, United States
CATEGORIES:Karaoke
ATTACH;FMTTYPE=image/png:https://sweettimeent.com/wp-content/uploads/2022/12/Friar-Tucks-Flyer-11x14-1.png
END:VEVENT
BEGIN:VEVENT
DTSTART;TZID=America/New_York:20240922T203000
DTEND;TZID=America/New_York:20240922T233000
DTSTAMP:20260423T145952
CREATED:20210913T144643Z
LAST-MODIFIED:20210913T144643Z
UID:4120-1727037000-1727047800@sweettimeent.com
SUMMARY:Sunday Karaoke at Harp & Hound
DESCRIPTION:Karaoke Every Sunday\nHosted by DJ Deelish!
URL:https://sweettimeent.com/events/sunday-karaoke-night-2024-09-22/
LOCATION:Harp & Hound\, 4 Pearl Street\, Mystic\, CT\, 06355\, United States
CATEGORIES:Karaoke
ATTACH;FMTTYPE=image/jpeg:https://sweettimeent.com/wp-content/uploads/2021/09/FB_IMG_1627829416471.jpg
END:VEVENT
BEGIN:VEVENT
DTSTART;TZID=America/New_York:20240920T210000
DTEND;TZID=America/New_York:20240920T235900
DTSTAMP:20260423T145952
CREATED:20210913T144328Z
LAST-MODIFIED:20240202T190547Z
UID:4027-1726866000-1726876740@sweettimeent.com
SUMMARY:Friday Karaoke at The Brazen Hen
DESCRIPTION:Karaoke Every Friday\n9pm – 12am\nHosted by DJ Sweet Nik!
URL:https://sweettimeent.com/events/friday-karaoke-night-2024-09-20/
LOCATION:The Brazen Hen\, 4 Canal Street\, Westerly\, RI\, 02891\, United States
CATEGORIES:Karaoke
ATTACH;FMTTYPE=image/jpeg:https://sweettimeent.com/wp-content/uploads/2021/09/FB_IMG_1625880869056.jpg
END:VEVENT
BEGIN:VEVENT
DTSTART;TZID=America/New_York:20240918T210000
DTEND;TZID=America/New_York:20240918T235900
DTSTAMP:20260423T145952
CREATED:20221201T185425Z
LAST-MODIFIED:20221201T185425Z
UID:3981-1726693200-1726703940@sweettimeent.com
SUMMARY:Wednesday Karaoke at Friar Tucks
DESCRIPTION:Karaoke every Wednesday night!\nHosted by DJ Deelish \n 
URL:https://sweettimeent.com/events/wednesday-karaoke-at-friar-tucks-2024-09-18/
LOCATION:Friar Tuck’s Tavern\, 12 Water St\, Mystic\, CT\, 06355\, United States
CATEGORIES:Karaoke
ATTACH;FMTTYPE=image/png:https://sweettimeent.com/wp-content/uploads/2022/12/Friar-Tucks-Flyer-11x14-1.png
END:VEVENT
BEGIN:VEVENT
DTSTART;TZID=America/New_York:20240915T203000
DTEND;TZID=America/New_York:20240915T233000
DTSTAMP:20260423T145952
CREATED:20210913T144643Z
LAST-MODIFIED:20210913T144643Z
UID:4119-1726432200-1726443000@sweettimeent.com
SUMMARY:Sunday Karaoke at Harp & Hound
DESCRIPTION:Karaoke Every Sunday\nHosted by DJ Deelish!
URL:https://sweettimeent.com/events/sunday-karaoke-night-2024-09-15/
LOCATION:Harp & Hound\, 4 Pearl Street\, Mystic\, CT\, 06355\, United States
CATEGORIES:Karaoke
ATTACH;FMTTYPE=image/jpeg:https://sweettimeent.com/wp-content/uploads/2021/09/FB_IMG_1627829416471.jpg
END:VEVENT
BEGIN:VEVENT
DTSTART;TZID=America/New_York:20240913T210000
DTEND;TZID=America/New_York:20240913T235900
DTSTAMP:20260423T145952
CREATED:20210913T144328Z
LAST-MODIFIED:20240202T190547Z
UID:4026-1726261200-1726271940@sweettimeent.com
SUMMARY:Friday Karaoke at The Brazen Hen
DESCRIPTION:Karaoke Every Friday\n9pm – 12am\nHosted by DJ Sweet Nik!
URL:https://sweettimeent.com/events/friday-karaoke-night-2024-09-13/
LOCATION:The Brazen Hen\, 4 Canal Street\, Westerly\, RI\, 02891\, United States
CATEGORIES:Karaoke
ATTACH;FMTTYPE=image/jpeg:https://sweettimeent.com/wp-content/uploads/2021/09/FB_IMG_1625880869056.jpg
END:VEVENT
BEGIN:VEVENT
DTSTART;TZID=America/New_York:20240911T210000
DTEND;TZID=America/New_York:20240911T235900
DTSTAMP:20260423T145952
CREATED:20221201T185425Z
LAST-MODIFIED:20221201T185425Z
UID:3980-1726088400-1726099140@sweettimeent.com
SUMMARY:Wednesday Karaoke at Friar Tucks
DESCRIPTION:Karaoke every Wednesday night!\nHosted by DJ Deelish \n 
URL:https://sweettimeent.com/events/wednesday-karaoke-at-friar-tucks-2024-09-11/
LOCATION:Friar Tuck’s Tavern\, 12 Water St\, Mystic\, CT\, 06355\, United States
CATEGORIES:Karaoke
ATTACH;FMTTYPE=image/png:https://sweettimeent.com/wp-content/uploads/2022/12/Friar-Tucks-Flyer-11x14-1.png
END:VEVENT
BEGIN:VEVENT
DTSTART;TZID=America/New_York:20240908T203000
DTEND;TZID=America/New_York:20240908T233000
DTSTAMP:20260423T145952
CREATED:20210913T144643Z
LAST-MODIFIED:20210913T144643Z
UID:4118-1725827400-1725838200@sweettimeent.com
SUMMARY:Sunday Karaoke at Harp & Hound
DESCRIPTION:Karaoke Every Sunday\nHosted by DJ Deelish!
URL:https://sweettimeent.com/events/sunday-karaoke-night-2024-09-08/
LOCATION:Harp & Hound\, 4 Pearl Street\, Mystic\, CT\, 06355\, United States
CATEGORIES:Karaoke
ATTACH;FMTTYPE=image/jpeg:https://sweettimeent.com/wp-content/uploads/2021/09/FB_IMG_1627829416471.jpg
END:VEVENT
BEGIN:VEVENT
DTSTART;TZID=America/New_York:20240906T210000
DTEND;TZID=America/New_York:20240906T235900
DTSTAMP:20260423T145952
CREATED:20210913T144328Z
LAST-MODIFIED:20240202T190547Z
UID:4025-1725656400-1725667140@sweettimeent.com
SUMMARY:Friday Karaoke at The Brazen Hen
DESCRIPTION:Karaoke Every Friday\n9pm – 12am\nHosted by DJ Sweet Nik!
URL:https://sweettimeent.com/events/friday-karaoke-night-2024-09-06/
LOCATION:The Brazen Hen\, 4 Canal Street\, Westerly\, RI\, 02891\, United States
CATEGORIES:Karaoke
ATTACH;FMTTYPE=image/jpeg:https://sweettimeent.com/wp-content/uploads/2021/09/FB_IMG_1625880869056.jpg
END:VEVENT
BEGIN:VEVENT
DTSTART;TZID=America/New_York:20240904T210000
DTEND;TZID=America/New_York:20240904T235900
DTSTAMP:20260423T145952
CREATED:20221201T185425Z
LAST-MODIFIED:20221201T185425Z
UID:3979-1725483600-1725494340@sweettimeent.com
SUMMARY:Wednesday Karaoke at Friar Tucks
DESCRIPTION:Karaoke every Wednesday night!\nHosted by DJ Deelish \n 
URL:https://sweettimeent.com/events/wednesday-karaoke-at-friar-tucks-2024-09-04/
LOCATION:Friar Tuck’s Tavern\, 12 Water St\, Mystic\, CT\, 06355\, United States
CATEGORIES:Karaoke
ATTACH;FMTTYPE=image/png:https://sweettimeent.com/wp-content/uploads/2022/12/Friar-Tucks-Flyer-11x14-1.png
END:VEVENT
BEGIN:VEVENT
DTSTART;TZID=America/New_York:20240901T203000
DTEND;TZID=America/New_York:20240901T233000
DTSTAMP:20260423T145952
CREATED:20210913T144643Z
LAST-MODIFIED:20210913T144643Z
UID:4117-1725222600-1725233400@sweettimeent.com
SUMMARY:Sunday Karaoke at Harp & Hound
DESCRIPTION:Karaoke Every Sunday\nHosted by DJ Deelish!
URL:https://sweettimeent.com/events/sunday-karaoke-night-2024-09-01/
LOCATION:Harp & Hound\, 4 Pearl Street\, Mystic\, CT\, 06355\, United States
CATEGORIES:Karaoke
ATTACH;FMTTYPE=image/jpeg:https://sweettimeent.com/wp-content/uploads/2021/09/FB_IMG_1627829416471.jpg
END:VEVENT
BEGIN:VEVENT
DTSTART;TZID=America/New_York:20240830T210000
DTEND;TZID=America/New_York:20240830T235900
DTSTAMP:20260423T145952
CREATED:20210913T144328Z
LAST-MODIFIED:20240202T190546Z
UID:4024-1725051600-1725062340@sweettimeent.com
SUMMARY:Friday Karaoke at The Brazen Hen
DESCRIPTION:Karaoke Every Friday\n9pm – 12am\nHosted by DJ Sweet Nik!
URL:https://sweettimeent.com/events/friday-karaoke-night-2024-08-30/
LOCATION:The Brazen Hen\, 4 Canal Street\, Westerly\, RI\, 02891\, United States
CATEGORIES:Karaoke
ATTACH;FMTTYPE=image/jpeg:https://sweettimeent.com/wp-content/uploads/2021/09/FB_IMG_1625880869056.jpg
END:VEVENT
BEGIN:VEVENT
DTSTART;TZID=America/New_York:20240828T210000
DTEND;TZID=America/New_York:20240828T235900
DTSTAMP:20260423T145952
CREATED:20221201T185425Z
LAST-MODIFIED:20221201T185425Z
UID:3978-1724878800-1724889540@sweettimeent.com
SUMMARY:Wednesday Karaoke at Friar Tucks
DESCRIPTION:Karaoke every Wednesday night!\nHosted by DJ Deelish \n 
URL:https://sweettimeent.com/events/wednesday-karaoke-at-friar-tucks-2024-08-28/
LOCATION:Friar Tuck’s Tavern\, 12 Water St\, Mystic\, CT\, 06355\, United States
CATEGORIES:Karaoke
ATTACH;FMTTYPE=image/png:https://sweettimeent.com/wp-content/uploads/2022/12/Friar-Tucks-Flyer-11x14-1.png
END:VEVENT
BEGIN:VEVENT
DTSTART;TZID=America/New_York:20240825T203000
DTEND;TZID=America/New_York:20240825T233000
DTSTAMP:20260423T145952
CREATED:20210913T144643Z
LAST-MODIFIED:20210913T144643Z
UID:4116-1724617800-1724628600@sweettimeent.com
SUMMARY:Sunday Karaoke at Harp & Hound
DESCRIPTION:Karaoke Every Sunday\nHosted by DJ Deelish!
URL:https://sweettimeent.com/events/sunday-karaoke-night-2024-08-25/
LOCATION:Harp & Hound\, 4 Pearl Street\, Mystic\, CT\, 06355\, United States
CATEGORIES:Karaoke
ATTACH;FMTTYPE=image/jpeg:https://sweettimeent.com/wp-content/uploads/2021/09/FB_IMG_1627829416471.jpg
END:VEVENT
END:VCALENDAR