BEGIN:VCALENDAR
VERSION:2.0
PRODID:-//Sweet Time Entertainment - ECPv6.13.2.1//NONSGML v1.0//EN
CALSCALE:GREGORIAN
METHOD:PUBLISH
X-ORIGINAL-URL:https://sweettimeent.com
X-WR-CALDESC:Events for Sweet Time Entertainment
REFRESH-INTERVAL;VALUE=DURATION:PT1H
X-Robots-Tag:noindex
X-PUBLISHED-TTL:PT1H
BEGIN:VTIMEZONE
TZID:America/New_York
BEGIN:DAYLIGHT
TZOFFSETFROM:-0500
TZOFFSETTO:-0400
TZNAME:EDT
DTSTART:20240310T070000
END:DAYLIGHT
BEGIN:STANDARD
TZOFFSETFROM:-0400
TZOFFSETTO:-0500
TZNAME:EST
DTSTART:20241103T060000
END:STANDARD
END:VTIMEZONE
BEGIN:VEVENT
DTSTART;TZID=America/New_York:20240906T210000
DTEND;TZID=America/New_York:20240906T235900
DTSTAMP:20260423T181838
CREATED:20210913T144328Z
LAST-MODIFIED:20240202T190547Z
UID:4025-1725656400-1725667140@sweettimeent.com
SUMMARY:Friday Karaoke at The Brazen Hen
DESCRIPTION:Karaoke Every Friday\n9pm – 12am\nHosted by DJ Sweet Nik!
URL:https://sweettimeent.com/events/friday-karaoke-night-2024-09-06/
LOCATION:The Brazen Hen\, 4 Canal Street\, Westerly\, RI\, 02891\, United States
CATEGORIES:Karaoke
ATTACH;FMTTYPE=image/jpeg:https://sweettimeent.com/wp-content/uploads/2021/09/FB_IMG_1625880869056.jpg
END:VEVENT
BEGIN:VEVENT
DTSTART;TZID=America/New_York:20240904T210000
DTEND;TZID=America/New_York:20240904T235900
DTSTAMP:20260423T181838
CREATED:20221201T185425Z
LAST-MODIFIED:20221201T185425Z
UID:3979-1725483600-1725494340@sweettimeent.com
SUMMARY:Wednesday Karaoke at Friar Tucks
DESCRIPTION:Karaoke every Wednesday night!\nHosted by DJ Deelish \n 
URL:https://sweettimeent.com/events/wednesday-karaoke-at-friar-tucks-2024-09-04/
LOCATION:Friar Tuck’s Tavern\, 12 Water St\, Mystic\, CT\, 06355\, United States
CATEGORIES:Karaoke
ATTACH;FMTTYPE=image/png:https://sweettimeent.com/wp-content/uploads/2022/12/Friar-Tucks-Flyer-11x14-1.png
END:VEVENT
BEGIN:VEVENT
DTSTART;TZID=America/New_York:20240901T203000
DTEND;TZID=America/New_York:20240901T233000
DTSTAMP:20260423T181838
CREATED:20210913T144643Z
LAST-MODIFIED:20210913T144643Z
UID:4117-1725222600-1725233400@sweettimeent.com
SUMMARY:Sunday Karaoke at Harp & Hound
DESCRIPTION:Karaoke Every Sunday\nHosted by DJ Deelish!
URL:https://sweettimeent.com/events/sunday-karaoke-night-2024-09-01/
LOCATION:Harp & Hound\, 4 Pearl Street\, Mystic\, CT\, 06355\, United States
CATEGORIES:Karaoke
ATTACH;FMTTYPE=image/jpeg:https://sweettimeent.com/wp-content/uploads/2021/09/FB_IMG_1627829416471.jpg
END:VEVENT
BEGIN:VEVENT
DTSTART;TZID=America/New_York:20240830T210000
DTEND;TZID=America/New_York:20240830T235900
DTSTAMP:20260423T181838
CREATED:20210913T144328Z
LAST-MODIFIED:20240202T190546Z
UID:4024-1725051600-1725062340@sweettimeent.com
SUMMARY:Friday Karaoke at The Brazen Hen
DESCRIPTION:Karaoke Every Friday\n9pm – 12am\nHosted by DJ Sweet Nik!
URL:https://sweettimeent.com/events/friday-karaoke-night-2024-08-30/
LOCATION:The Brazen Hen\, 4 Canal Street\, Westerly\, RI\, 02891\, United States
CATEGORIES:Karaoke
ATTACH;FMTTYPE=image/jpeg:https://sweettimeent.com/wp-content/uploads/2021/09/FB_IMG_1625880869056.jpg
END:VEVENT
BEGIN:VEVENT
DTSTART;TZID=America/New_York:20240828T210000
DTEND;TZID=America/New_York:20240828T235900
DTSTAMP:20260423T181838
CREATED:20221201T185425Z
LAST-MODIFIED:20221201T185425Z
UID:3978-1724878800-1724889540@sweettimeent.com
SUMMARY:Wednesday Karaoke at Friar Tucks
DESCRIPTION:Karaoke every Wednesday night!\nHosted by DJ Deelish \n 
URL:https://sweettimeent.com/events/wednesday-karaoke-at-friar-tucks-2024-08-28/
LOCATION:Friar Tuck’s Tavern\, 12 Water St\, Mystic\, CT\, 06355\, United States
CATEGORIES:Karaoke
ATTACH;FMTTYPE=image/png:https://sweettimeent.com/wp-content/uploads/2022/12/Friar-Tucks-Flyer-11x14-1.png
END:VEVENT
BEGIN:VEVENT
DTSTART;TZID=America/New_York:20240825T203000
DTEND;TZID=America/New_York:20240825T233000
DTSTAMP:20260423T181838
CREATED:20210913T144643Z
LAST-MODIFIED:20210913T144643Z
UID:4116-1724617800-1724628600@sweettimeent.com
SUMMARY:Sunday Karaoke at Harp & Hound
DESCRIPTION:Karaoke Every Sunday\nHosted by DJ Deelish!
URL:https://sweettimeent.com/events/sunday-karaoke-night-2024-08-25/
LOCATION:Harp & Hound\, 4 Pearl Street\, Mystic\, CT\, 06355\, United States
CATEGORIES:Karaoke
ATTACH;FMTTYPE=image/jpeg:https://sweettimeent.com/wp-content/uploads/2021/09/FB_IMG_1627829416471.jpg
END:VEVENT
BEGIN:VEVENT
DTSTART;TZID=America/New_York:20240823T210000
DTEND;TZID=America/New_York:20240823T235900
DTSTAMP:20260423T181838
CREATED:20210913T144328Z
LAST-MODIFIED:20240202T190546Z
UID:4023-1724446800-1724457540@sweettimeent.com
SUMMARY:Friday Karaoke at The Brazen Hen
DESCRIPTION:Karaoke Every Friday\n9pm – 12am\nHosted by DJ Sweet Nik!
URL:https://sweettimeent.com/events/friday-karaoke-night-2024-08-23/
LOCATION:The Brazen Hen\, 4 Canal Street\, Westerly\, RI\, 02891\, United States
CATEGORIES:Karaoke
ATTACH;FMTTYPE=image/jpeg:https://sweettimeent.com/wp-content/uploads/2021/09/FB_IMG_1625880869056.jpg
END:VEVENT
BEGIN:VEVENT
DTSTART;TZID=America/New_York:20240821T210000
DTEND;TZID=America/New_York:20240821T235900
DTSTAMP:20260423T181838
CREATED:20221201T185425Z
LAST-MODIFIED:20221201T185425Z
UID:3977-1724274000-1724284740@sweettimeent.com
SUMMARY:Wednesday Karaoke at Friar Tucks
DESCRIPTION:Karaoke every Wednesday night!\nHosted by DJ Deelish \n 
URL:https://sweettimeent.com/events/wednesday-karaoke-at-friar-tucks-2024-08-21/
LOCATION:Friar Tuck’s Tavern\, 12 Water St\, Mystic\, CT\, 06355\, United States
CATEGORIES:Karaoke
ATTACH;FMTTYPE=image/png:https://sweettimeent.com/wp-content/uploads/2022/12/Friar-Tucks-Flyer-11x14-1.png
END:VEVENT
BEGIN:VEVENT
DTSTART;TZID=America/New_York:20240818T203000
DTEND;TZID=America/New_York:20240818T233000
DTSTAMP:20260423T181838
CREATED:20210913T144643Z
LAST-MODIFIED:20210913T144643Z
UID:4115-1724013000-1724023800@sweettimeent.com
SUMMARY:Sunday Karaoke at Harp & Hound
DESCRIPTION:Karaoke Every Sunday\nHosted by DJ Deelish!
URL:https://sweettimeent.com/events/sunday-karaoke-night-2024-08-18/
LOCATION:Harp & Hound\, 4 Pearl Street\, Mystic\, CT\, 06355\, United States
CATEGORIES:Karaoke
ATTACH;FMTTYPE=image/jpeg:https://sweettimeent.com/wp-content/uploads/2021/09/FB_IMG_1627829416471.jpg
END:VEVENT
BEGIN:VEVENT
DTSTART;TZID=America/New_York:20240816T210000
DTEND;TZID=America/New_York:20240816T235900
DTSTAMP:20260423T181838
CREATED:20210913T144328Z
LAST-MODIFIED:20240202T190546Z
UID:4022-1723842000-1723852740@sweettimeent.com
SUMMARY:Friday Karaoke at The Brazen Hen
DESCRIPTION:Karaoke Every Friday\n9pm – 12am\nHosted by DJ Sweet Nik!
URL:https://sweettimeent.com/events/friday-karaoke-night-2024-08-16/
LOCATION:The Brazen Hen\, 4 Canal Street\, Westerly\, RI\, 02891\, United States
CATEGORIES:Karaoke
ATTACH;FMTTYPE=image/jpeg:https://sweettimeent.com/wp-content/uploads/2021/09/FB_IMG_1625880869056.jpg
END:VEVENT
BEGIN:VEVENT
DTSTART;TZID=America/New_York:20240814T210000
DTEND;TZID=America/New_York:20240814T235900
DTSTAMP:20260423T181838
CREATED:20221201T185425Z
LAST-MODIFIED:20221201T185425Z
UID:3976-1723669200-1723679940@sweettimeent.com
SUMMARY:Wednesday Karaoke at Friar Tucks
DESCRIPTION:Karaoke every Wednesday night!\nHosted by DJ Deelish \n 
URL:https://sweettimeent.com/events/wednesday-karaoke-at-friar-tucks-2024-08-14/
LOCATION:Friar Tuck’s Tavern\, 12 Water St\, Mystic\, CT\, 06355\, United States
CATEGORIES:Karaoke
ATTACH;FMTTYPE=image/png:https://sweettimeent.com/wp-content/uploads/2022/12/Friar-Tucks-Flyer-11x14-1.png
END:VEVENT
BEGIN:VEVENT
DTSTART;TZID=America/New_York:20240811T203000
DTEND;TZID=America/New_York:20240811T233000
DTSTAMP:20260423T181838
CREATED:20210913T144643Z
LAST-MODIFIED:20210913T144643Z
UID:4114-1723408200-1723419000@sweettimeent.com
SUMMARY:Sunday Karaoke at Harp & Hound
DESCRIPTION:Karaoke Every Sunday\nHosted by DJ Deelish!
URL:https://sweettimeent.com/events/sunday-karaoke-night-2024-08-11/
LOCATION:Harp & Hound\, 4 Pearl Street\, Mystic\, CT\, 06355\, United States
CATEGORIES:Karaoke
ATTACH;FMTTYPE=image/jpeg:https://sweettimeent.com/wp-content/uploads/2021/09/FB_IMG_1627829416471.jpg
END:VEVENT
BEGIN:VEVENT
DTSTART;TZID=America/New_York:20240809T210000
DTEND;TZID=America/New_York:20240809T235900
DTSTAMP:20260423T181838
CREATED:20210913T144328Z
LAST-MODIFIED:20240202T190546Z
UID:4021-1723237200-1723247940@sweettimeent.com
SUMMARY:Friday Karaoke at The Brazen Hen
DESCRIPTION:Karaoke Every Friday\n9pm – 12am\nHosted by DJ Sweet Nik!
URL:https://sweettimeent.com/events/friday-karaoke-night-2024-08-09/
LOCATION:The Brazen Hen\, 4 Canal Street\, Westerly\, RI\, 02891\, United States
CATEGORIES:Karaoke
ATTACH;FMTTYPE=image/jpeg:https://sweettimeent.com/wp-content/uploads/2021/09/FB_IMG_1625880869056.jpg
END:VEVENT
BEGIN:VEVENT
DTSTART;TZID=America/New_York:20240807T210000
DTEND;TZID=America/New_York:20240807T235900
DTSTAMP:20260423T181838
CREATED:20221201T185425Z
LAST-MODIFIED:20221201T185425Z
UID:3975-1723064400-1723075140@sweettimeent.com
SUMMARY:Wednesday Karaoke at Friar Tucks
DESCRIPTION:Karaoke every Wednesday night!\nHosted by DJ Deelish \n 
URL:https://sweettimeent.com/events/wednesday-karaoke-at-friar-tucks-2024-08-07/
LOCATION:Friar Tuck’s Tavern\, 12 Water St\, Mystic\, CT\, 06355\, United States
CATEGORIES:Karaoke
ATTACH;FMTTYPE=image/png:https://sweettimeent.com/wp-content/uploads/2022/12/Friar-Tucks-Flyer-11x14-1.png
END:VEVENT
BEGIN:VEVENT
DTSTART;TZID=America/New_York:20240804T203000
DTEND;TZID=America/New_York:20240804T233000
DTSTAMP:20260423T181838
CREATED:20210913T144643Z
LAST-MODIFIED:20210913T144643Z
UID:4113-1722803400-1722814200@sweettimeent.com
SUMMARY:Sunday Karaoke at Harp & Hound
DESCRIPTION:Karaoke Every Sunday\nHosted by DJ Deelish!
URL:https://sweettimeent.com/events/sunday-karaoke-night-2024-08-04/
LOCATION:Harp & Hound\, 4 Pearl Street\, Mystic\, CT\, 06355\, United States
CATEGORIES:Karaoke
ATTACH;FMTTYPE=image/jpeg:https://sweettimeent.com/wp-content/uploads/2021/09/FB_IMG_1627829416471.jpg
END:VEVENT
BEGIN:VEVENT
DTSTART;TZID=America/New_York:20240802T210000
DTEND;TZID=America/New_York:20240802T235900
DTSTAMP:20260423T181838
CREATED:20210913T144328Z
LAST-MODIFIED:20240202T190546Z
UID:4020-1722632400-1722643140@sweettimeent.com
SUMMARY:Friday Karaoke at The Brazen Hen
DESCRIPTION:Karaoke Every Friday\n9pm – 12am\nHosted by DJ Sweet Nik!
URL:https://sweettimeent.com/events/friday-karaoke-night-2024-08-02/
LOCATION:The Brazen Hen\, 4 Canal Street\, Westerly\, RI\, 02891\, United States
CATEGORIES:Karaoke
ATTACH;FMTTYPE=image/jpeg:https://sweettimeent.com/wp-content/uploads/2021/09/FB_IMG_1625880869056.jpg
END:VEVENT
BEGIN:VEVENT
DTSTART;TZID=America/New_York:20240731T210000
DTEND;TZID=America/New_York:20240731T235900
DTSTAMP:20260423T181838
CREATED:20221201T185425Z
LAST-MODIFIED:20221201T185425Z
UID:3974-1722459600-1722470340@sweettimeent.com
SUMMARY:Wednesday Karaoke at Friar Tucks
DESCRIPTION:Karaoke every Wednesday night!\nHosted by DJ Deelish \n 
URL:https://sweettimeent.com/events/wednesday-karaoke-at-friar-tucks-2024-07-31/
LOCATION:Friar Tuck’s Tavern\, 12 Water St\, Mystic\, CT\, 06355\, United States
CATEGORIES:Karaoke
ATTACH;FMTTYPE=image/png:https://sweettimeent.com/wp-content/uploads/2022/12/Friar-Tucks-Flyer-11x14-1.png
END:VEVENT
BEGIN:VEVENT
DTSTART;TZID=America/New_York:20240728T203000
DTEND;TZID=America/New_York:20240728T233000
DTSTAMP:20260423T181838
CREATED:20210913T144643Z
LAST-MODIFIED:20210913T144643Z
UID:4112-1722198600-1722209400@sweettimeent.com
SUMMARY:Sunday Karaoke at Harp & Hound
DESCRIPTION:Karaoke Every Sunday\nHosted by DJ Deelish!
URL:https://sweettimeent.com/events/sunday-karaoke-night-2024-07-28/
LOCATION:Harp & Hound\, 4 Pearl Street\, Mystic\, CT\, 06355\, United States
CATEGORIES:Karaoke
ATTACH;FMTTYPE=image/jpeg:https://sweettimeent.com/wp-content/uploads/2021/09/FB_IMG_1627829416471.jpg
END:VEVENT
BEGIN:VEVENT
DTSTART;TZID=America/New_York:20240726T210000
DTEND;TZID=America/New_York:20240726T235900
DTSTAMP:20260423T181838
CREATED:20210913T144328Z
LAST-MODIFIED:20240202T190545Z
UID:4019-1722027600-1722038340@sweettimeent.com
SUMMARY:Friday Karaoke at The Brazen Hen
DESCRIPTION:Karaoke Every Friday\n9pm – 12am\nHosted by DJ Sweet Nik!
URL:https://sweettimeent.com/events/friday-karaoke-night-2024-07-26/
LOCATION:The Brazen Hen\, 4 Canal Street\, Westerly\, RI\, 02891\, United States
CATEGORIES:Karaoke
ATTACH;FMTTYPE=image/jpeg:https://sweettimeent.com/wp-content/uploads/2021/09/FB_IMG_1625880869056.jpg
END:VEVENT
BEGIN:VEVENT
DTSTART;TZID=America/New_York:20240724T210000
DTEND;TZID=America/New_York:20240724T235900
DTSTAMP:20260423T181838
CREATED:20221201T185425Z
LAST-MODIFIED:20221201T185425Z
UID:3973-1721854800-1721865540@sweettimeent.com
SUMMARY:Wednesday Karaoke at Friar Tucks
DESCRIPTION:Karaoke every Wednesday night!\nHosted by DJ Deelish \n 
URL:https://sweettimeent.com/events/wednesday-karaoke-at-friar-tucks-2024-07-24/
LOCATION:Friar Tuck’s Tavern\, 12 Water St\, Mystic\, CT\, 06355\, United States
CATEGORIES:Karaoke
ATTACH;FMTTYPE=image/png:https://sweettimeent.com/wp-content/uploads/2022/12/Friar-Tucks-Flyer-11x14-1.png
END:VEVENT
BEGIN:VEVENT
DTSTART;TZID=America/New_York:20240721T203000
DTEND;TZID=America/New_York:20240721T233000
DTSTAMP:20260423T181838
CREATED:20210913T144643Z
LAST-MODIFIED:20210913T144643Z
UID:4111-1721593800-1721604600@sweettimeent.com
SUMMARY:Sunday Karaoke at Harp & Hound
DESCRIPTION:Karaoke Every Sunday\nHosted by DJ Deelish!
URL:https://sweettimeent.com/events/sunday-karaoke-night-2024-07-21/
LOCATION:Harp & Hound\, 4 Pearl Street\, Mystic\, CT\, 06355\, United States
CATEGORIES:Karaoke
ATTACH;FMTTYPE=image/jpeg:https://sweettimeent.com/wp-content/uploads/2021/09/FB_IMG_1627829416471.jpg
END:VEVENT
BEGIN:VEVENT
DTSTART;TZID=America/New_York:20240719T210000
DTEND;TZID=America/New_York:20240719T235900
DTSTAMP:20260423T181838
CREATED:20210913T144328Z
LAST-MODIFIED:20240202T190545Z
UID:4018-1721422800-1721433540@sweettimeent.com
SUMMARY:Friday Karaoke at The Brazen Hen
DESCRIPTION:Karaoke Every Friday\n9pm – 12am\nHosted by DJ Sweet Nik!
URL:https://sweettimeent.com/events/friday-karaoke-night-2024-07-19/
LOCATION:The Brazen Hen\, 4 Canal Street\, Westerly\, RI\, 02891\, United States
CATEGORIES:Karaoke
ATTACH;FMTTYPE=image/jpeg:https://sweettimeent.com/wp-content/uploads/2021/09/FB_IMG_1625880869056.jpg
END:VEVENT
BEGIN:VEVENT
DTSTART;TZID=America/New_York:20240717T210000
DTEND;TZID=America/New_York:20240717T235900
DTSTAMP:20260423T181838
CREATED:20221201T185425Z
LAST-MODIFIED:20221201T185425Z
UID:3972-1721250000-1721260740@sweettimeent.com
SUMMARY:Wednesday Karaoke at Friar Tucks
DESCRIPTION:Karaoke every Wednesday night!\nHosted by DJ Deelish \n 
URL:https://sweettimeent.com/events/wednesday-karaoke-at-friar-tucks-2024-07-17/
LOCATION:Friar Tuck’s Tavern\, 12 Water St\, Mystic\, CT\, 06355\, United States
CATEGORIES:Karaoke
ATTACH;FMTTYPE=image/png:https://sweettimeent.com/wp-content/uploads/2022/12/Friar-Tucks-Flyer-11x14-1.png
END:VEVENT
BEGIN:VEVENT
DTSTART;TZID=America/New_York:20240714T203000
DTEND;TZID=America/New_York:20240714T233000
DTSTAMP:20260423T181838
CREATED:20210913T144643Z
LAST-MODIFIED:20210913T144643Z
UID:4110-1720989000-1720999800@sweettimeent.com
SUMMARY:Sunday Karaoke at Harp & Hound
DESCRIPTION:Karaoke Every Sunday\nHosted by DJ Deelish!
URL:https://sweettimeent.com/events/sunday-karaoke-night-2024-07-14/
LOCATION:Harp & Hound\, 4 Pearl Street\, Mystic\, CT\, 06355\, United States
CATEGORIES:Karaoke
ATTACH;FMTTYPE=image/jpeg:https://sweettimeent.com/wp-content/uploads/2021/09/FB_IMG_1627829416471.jpg
END:VEVENT
BEGIN:VEVENT
DTSTART;TZID=America/New_York:20240712T210000
DTEND;TZID=America/New_York:20240712T235900
DTSTAMP:20260423T181838
CREATED:20210913T144328Z
LAST-MODIFIED:20240202T190545Z
UID:4017-1720818000-1720828740@sweettimeent.com
SUMMARY:Friday Karaoke at The Brazen Hen
DESCRIPTION:Karaoke Every Friday\n9pm – 12am\nHosted by DJ Sweet Nik!
URL:https://sweettimeent.com/events/friday-karaoke-night-2024-07-12/
LOCATION:The Brazen Hen\, 4 Canal Street\, Westerly\, RI\, 02891\, United States
CATEGORIES:Karaoke
ATTACH;FMTTYPE=image/jpeg:https://sweettimeent.com/wp-content/uploads/2021/09/FB_IMG_1625880869056.jpg
END:VEVENT
BEGIN:VEVENT
DTSTART;TZID=America/New_York:20240710T210000
DTEND;TZID=America/New_York:20240710T235900
DTSTAMP:20260423T181838
CREATED:20221201T185425Z
LAST-MODIFIED:20221201T185425Z
UID:3971-1720645200-1720655940@sweettimeent.com
SUMMARY:Wednesday Karaoke at Friar Tucks
DESCRIPTION:Karaoke every Wednesday night!\nHosted by DJ Deelish \n 
URL:https://sweettimeent.com/events/wednesday-karaoke-at-friar-tucks-2024-07-10/
LOCATION:Friar Tuck’s Tavern\, 12 Water St\, Mystic\, CT\, 06355\, United States
CATEGORIES:Karaoke
ATTACH;FMTTYPE=image/png:https://sweettimeent.com/wp-content/uploads/2022/12/Friar-Tucks-Flyer-11x14-1.png
END:VEVENT
BEGIN:VEVENT
DTSTART;TZID=America/New_York:20240707T203000
DTEND;TZID=America/New_York:20240707T233000
DTSTAMP:20260423T181838
CREATED:20210913T144643Z
LAST-MODIFIED:20210913T144643Z
UID:4109-1720384200-1720395000@sweettimeent.com
SUMMARY:Sunday Karaoke at Harp & Hound
DESCRIPTION:Karaoke Every Sunday\nHosted by DJ Deelish!
URL:https://sweettimeent.com/events/sunday-karaoke-night-2024-07-07/
LOCATION:Harp & Hound\, 4 Pearl Street\, Mystic\, CT\, 06355\, United States
CATEGORIES:Karaoke
ATTACH;FMTTYPE=image/jpeg:https://sweettimeent.com/wp-content/uploads/2021/09/FB_IMG_1627829416471.jpg
END:VEVENT
BEGIN:VEVENT
DTSTART;TZID=America/New_York:20240705T210000
DTEND;TZID=America/New_York:20240705T235900
DTSTAMP:20260423T181838
CREATED:20210913T144328Z
LAST-MODIFIED:20240202T190545Z
UID:4016-1720213200-1720223940@sweettimeent.com
SUMMARY:Friday Karaoke at The Brazen Hen
DESCRIPTION:Karaoke Every Friday\n9pm – 12am\nHosted by DJ Sweet Nik!
URL:https://sweettimeent.com/events/friday-karaoke-night-2024-07-05/
LOCATION:The Brazen Hen\, 4 Canal Street\, Westerly\, RI\, 02891\, United States
CATEGORIES:Karaoke
ATTACH;FMTTYPE=image/jpeg:https://sweettimeent.com/wp-content/uploads/2021/09/FB_IMG_1625880869056.jpg
END:VEVENT
BEGIN:VEVENT
DTSTART;TZID=America/New_York:20240703T210000
DTEND;TZID=America/New_York:20240703T235900
DTSTAMP:20260423T181838
CREATED:20221201T185425Z
LAST-MODIFIED:20221201T185425Z
UID:3970-1720040400-1720051140@sweettimeent.com
SUMMARY:Wednesday Karaoke at Friar Tucks
DESCRIPTION:Karaoke every Wednesday night!\nHosted by DJ Deelish \n 
URL:https://sweettimeent.com/events/wednesday-karaoke-at-friar-tucks-2024-07-03/
LOCATION:Friar Tuck’s Tavern\, 12 Water St\, Mystic\, CT\, 06355\, United States
CATEGORIES:Karaoke
ATTACH;FMTTYPE=image/png:https://sweettimeent.com/wp-content/uploads/2022/12/Friar-Tucks-Flyer-11x14-1.png
END:VEVENT
BEGIN:VEVENT
DTSTART;TZID=America/New_York:20240630T203000
DTEND;TZID=America/New_York:20240630T233000
DTSTAMP:20260423T181838
CREATED:20210913T144643Z
LAST-MODIFIED:20210913T144643Z
UID:4108-1719779400-1719790200@sweettimeent.com
SUMMARY:Sunday Karaoke at Harp & Hound
DESCRIPTION:Karaoke Every Sunday\nHosted by DJ Deelish!
URL:https://sweettimeent.com/events/sunday-karaoke-night-2024-06-30/
LOCATION:Harp & Hound\, 4 Pearl Street\, Mystic\, CT\, 06355\, United States
CATEGORIES:Karaoke
ATTACH;FMTTYPE=image/jpeg:https://sweettimeent.com/wp-content/uploads/2021/09/FB_IMG_1627829416471.jpg
END:VEVENT
END:VCALENDAR