BEGIN:VCALENDAR
VERSION:2.0
PRODID:-//Sweet Time Entertainment - ECPv6.13.2.1//NONSGML v1.0//EN
CALSCALE:GREGORIAN
METHOD:PUBLISH
X-ORIGINAL-URL:https://sweettimeent.com
X-WR-CALDESC:Events for Sweet Time Entertainment
REFRESH-INTERVAL;VALUE=DURATION:PT1H
X-Robots-Tag:noindex
X-PUBLISHED-TTL:PT1H
BEGIN:VTIMEZONE
TZID:America/New_York
BEGIN:DAYLIGHT
TZOFFSETFROM:-0500
TZOFFSETTO:-0400
TZNAME:EDT
DTSTART:20240310T070000
END:DAYLIGHT
BEGIN:STANDARD
TZOFFSETFROM:-0400
TZOFFSETTO:-0500
TZNAME:EST
DTSTART:20241103T060000
END:STANDARD
END:VTIMEZONE
BEGIN:VEVENT
DTSTART;TZID=America/New_York:20240614T210000
DTEND;TZID=America/New_York:20240614T235900
DTSTAMP:20260423T224241
CREATED:20210913T144328Z
LAST-MODIFIED:20240202T190544Z
UID:4013-1718398800-1718409540@sweettimeent.com
SUMMARY:Friday Karaoke at The Brazen Hen
DESCRIPTION:Karaoke Every Friday\n9pm – 12am\nHosted by DJ Sweet Nik!
URL:https://sweettimeent.com/events/friday-karaoke-night-2024-06-14/
LOCATION:The Brazen Hen\, 4 Canal Street\, Westerly\, RI\, 02891\, United States
CATEGORIES:Karaoke
ATTACH;FMTTYPE=image/jpeg:https://sweettimeent.com/wp-content/uploads/2021/09/FB_IMG_1625880869056.jpg
END:VEVENT
BEGIN:VEVENT
DTSTART;TZID=America/New_York:20240612T210000
DTEND;TZID=America/New_York:20240612T235900
DTSTAMP:20260423T224241
CREATED:20221201T185425Z
LAST-MODIFIED:20221201T185425Z
UID:3967-1718226000-1718236740@sweettimeent.com
SUMMARY:Wednesday Karaoke at Friar Tucks
DESCRIPTION:Karaoke every Wednesday night!\nHosted by DJ Deelish \n 
URL:https://sweettimeent.com/events/wednesday-karaoke-at-friar-tucks-2024-06-12/
LOCATION:Friar Tuck’s Tavern\, 12 Water St\, Mystic\, CT\, 06355\, United States
CATEGORIES:Karaoke
ATTACH;FMTTYPE=image/png:https://sweettimeent.com/wp-content/uploads/2022/12/Friar-Tucks-Flyer-11x14-1.png
END:VEVENT
BEGIN:VEVENT
DTSTART;TZID=America/New_York:20240609T203000
DTEND;TZID=America/New_York:20240609T233000
DTSTAMP:20260423T224241
CREATED:20210913T144643Z
LAST-MODIFIED:20210913T144643Z
UID:4105-1717965000-1717975800@sweettimeent.com
SUMMARY:Sunday Karaoke at Harp & Hound
DESCRIPTION:Karaoke Every Sunday\nHosted by DJ Deelish!
URL:https://sweettimeent.com/events/sunday-karaoke-night-2024-06-09/
LOCATION:Harp & Hound\, 4 Pearl Street\, Mystic\, CT\, 06355\, United States
CATEGORIES:Karaoke
ATTACH;FMTTYPE=image/jpeg:https://sweettimeent.com/wp-content/uploads/2021/09/FB_IMG_1627829416471.jpg
END:VEVENT
BEGIN:VEVENT
DTSTART;TZID=America/New_York:20240607T210000
DTEND;TZID=America/New_York:20240607T235900
DTSTAMP:20260423T224241
CREATED:20210913T144328Z
LAST-MODIFIED:20240202T190544Z
UID:4012-1717794000-1717804740@sweettimeent.com
SUMMARY:Friday Karaoke at The Brazen Hen
DESCRIPTION:Karaoke Every Friday\n9pm – 12am\nHosted by DJ Sweet Nik!
URL:https://sweettimeent.com/events/friday-karaoke-night-2024-06-07/
LOCATION:The Brazen Hen\, 4 Canal Street\, Westerly\, RI\, 02891\, United States
CATEGORIES:Karaoke
ATTACH;FMTTYPE=image/jpeg:https://sweettimeent.com/wp-content/uploads/2021/09/FB_IMG_1625880869056.jpg
END:VEVENT
BEGIN:VEVENT
DTSTART;TZID=America/New_York:20240605T210000
DTEND;TZID=America/New_York:20240605T235900
DTSTAMP:20260423T224241
CREATED:20221201T185425Z
LAST-MODIFIED:20221201T185425Z
UID:3966-1717621200-1717631940@sweettimeent.com
SUMMARY:Wednesday Karaoke at Friar Tucks
DESCRIPTION:Karaoke every Wednesday night!\nHosted by DJ Deelish \n 
URL:https://sweettimeent.com/events/wednesday-karaoke-at-friar-tucks-2024-06-05/
LOCATION:Friar Tuck’s Tavern\, 12 Water St\, Mystic\, CT\, 06355\, United States
CATEGORIES:Karaoke
ATTACH;FMTTYPE=image/png:https://sweettimeent.com/wp-content/uploads/2022/12/Friar-Tucks-Flyer-11x14-1.png
END:VEVENT
BEGIN:VEVENT
DTSTART;TZID=America/New_York:20240602T203000
DTEND;TZID=America/New_York:20240602T233000
DTSTAMP:20260423T224241
CREATED:20210913T144643Z
LAST-MODIFIED:20210913T144643Z
UID:4104-1717360200-1717371000@sweettimeent.com
SUMMARY:Sunday Karaoke at Harp & Hound
DESCRIPTION:Karaoke Every Sunday\nHosted by DJ Deelish!
URL:https://sweettimeent.com/events/sunday-karaoke-night-2024-06-02/
LOCATION:Harp & Hound\, 4 Pearl Street\, Mystic\, CT\, 06355\, United States
CATEGORIES:Karaoke
ATTACH;FMTTYPE=image/jpeg:https://sweettimeent.com/wp-content/uploads/2021/09/FB_IMG_1627829416471.jpg
END:VEVENT
BEGIN:VEVENT
DTSTART;TZID=America/New_York:20240531T210000
DTEND;TZID=America/New_York:20240531T235900
DTSTAMP:20260423T224241
CREATED:20210913T144328Z
LAST-MODIFIED:20240202T190544Z
UID:4011-1717189200-1717199940@sweettimeent.com
SUMMARY:Friday Karaoke at The Brazen Hen
DESCRIPTION:Karaoke Every Friday\n9pm – 12am\nHosted by DJ Sweet Nik!
URL:https://sweettimeent.com/events/friday-karaoke-night-2024-05-31/
LOCATION:The Brazen Hen\, 4 Canal Street\, Westerly\, RI\, 02891\, United States
CATEGORIES:Karaoke
ATTACH;FMTTYPE=image/jpeg:https://sweettimeent.com/wp-content/uploads/2021/09/FB_IMG_1625880869056.jpg
END:VEVENT
BEGIN:VEVENT
DTSTART;TZID=America/New_York:20240529T210000
DTEND;TZID=America/New_York:20240529T235900
DTSTAMP:20260423T224241
CREATED:20221201T185425Z
LAST-MODIFIED:20221201T185425Z
UID:3965-1717016400-1717027140@sweettimeent.com
SUMMARY:Wednesday Karaoke at Friar Tucks
DESCRIPTION:Karaoke every Wednesday night!\nHosted by DJ Deelish \n 
URL:https://sweettimeent.com/events/wednesday-karaoke-at-friar-tucks-2024-05-29/
LOCATION:Friar Tuck’s Tavern\, 12 Water St\, Mystic\, CT\, 06355\, United States
CATEGORIES:Karaoke
ATTACH;FMTTYPE=image/png:https://sweettimeent.com/wp-content/uploads/2022/12/Friar-Tucks-Flyer-11x14-1.png
END:VEVENT
BEGIN:VEVENT
DTSTART;TZID=America/New_York:20240526T203000
DTEND;TZID=America/New_York:20240526T233000
DTSTAMP:20260423T224241
CREATED:20210913T144643Z
LAST-MODIFIED:20210913T144643Z
UID:4103-1716755400-1716766200@sweettimeent.com
SUMMARY:Sunday Karaoke at Harp & Hound
DESCRIPTION:Karaoke Every Sunday\nHosted by DJ Deelish!
URL:https://sweettimeent.com/events/sunday-karaoke-night-2024-05-26/
LOCATION:Harp & Hound\, 4 Pearl Street\, Mystic\, CT\, 06355\, United States
CATEGORIES:Karaoke
ATTACH;FMTTYPE=image/jpeg:https://sweettimeent.com/wp-content/uploads/2021/09/FB_IMG_1627829416471.jpg
END:VEVENT
BEGIN:VEVENT
DTSTART;TZID=America/New_York:20240524T210000
DTEND;TZID=America/New_York:20240524T235900
DTSTAMP:20260423T224241
CREATED:20210913T144328Z
LAST-MODIFIED:20240202T190543Z
UID:4010-1716584400-1716595140@sweettimeent.com
SUMMARY:Friday Karaoke at The Brazen Hen
DESCRIPTION:Karaoke Every Friday\n9pm – 12am\nHosted by DJ Sweet Nik!
URL:https://sweettimeent.com/events/friday-karaoke-night-2024-05-24/
LOCATION:The Brazen Hen\, 4 Canal Street\, Westerly\, RI\, 02891\, United States
CATEGORIES:Karaoke
ATTACH;FMTTYPE=image/jpeg:https://sweettimeent.com/wp-content/uploads/2021/09/FB_IMG_1625880869056.jpg
END:VEVENT
BEGIN:VEVENT
DTSTART;TZID=America/New_York:20240522T210000
DTEND;TZID=America/New_York:20240522T235900
DTSTAMP:20260423T224241
CREATED:20221201T185425Z
LAST-MODIFIED:20221201T185425Z
UID:3964-1716411600-1716422340@sweettimeent.com
SUMMARY:Wednesday Karaoke at Friar Tucks
DESCRIPTION:Karaoke every Wednesday night!\nHosted by DJ Deelish \n 
URL:https://sweettimeent.com/events/wednesday-karaoke-at-friar-tucks-2024-05-22/
LOCATION:Friar Tuck’s Tavern\, 12 Water St\, Mystic\, CT\, 06355\, United States
CATEGORIES:Karaoke
ATTACH;FMTTYPE=image/png:https://sweettimeent.com/wp-content/uploads/2022/12/Friar-Tucks-Flyer-11x14-1.png
END:VEVENT
BEGIN:VEVENT
DTSTART;TZID=America/New_York:20240519T203000
DTEND;TZID=America/New_York:20240519T233000
DTSTAMP:20260423T224242
CREATED:20210913T144643Z
LAST-MODIFIED:20210913T144643Z
UID:4102-1716150600-1716161400@sweettimeent.com
SUMMARY:Sunday Karaoke at Harp & Hound
DESCRIPTION:Karaoke Every Sunday\nHosted by DJ Deelish!
URL:https://sweettimeent.com/events/sunday-karaoke-night-2024-05-19/
LOCATION:Harp & Hound\, 4 Pearl Street\, Mystic\, CT\, 06355\, United States
CATEGORIES:Karaoke
ATTACH;FMTTYPE=image/jpeg:https://sweettimeent.com/wp-content/uploads/2021/09/FB_IMG_1627829416471.jpg
END:VEVENT
BEGIN:VEVENT
DTSTART;TZID=America/New_York:20240517T210000
DTEND;TZID=America/New_York:20240517T235900
DTSTAMP:20260423T224242
CREATED:20210913T144328Z
LAST-MODIFIED:20240202T190543Z
UID:4009-1715979600-1715990340@sweettimeent.com
SUMMARY:Friday Karaoke at The Brazen Hen
DESCRIPTION:Karaoke Every Friday\n9pm – 12am\nHosted by DJ Sweet Nik!
URL:https://sweettimeent.com/events/friday-karaoke-night-2024-05-17/
LOCATION:The Brazen Hen\, 4 Canal Street\, Westerly\, RI\, 02891\, United States
CATEGORIES:Karaoke
ATTACH;FMTTYPE=image/jpeg:https://sweettimeent.com/wp-content/uploads/2021/09/FB_IMG_1625880869056.jpg
END:VEVENT
BEGIN:VEVENT
DTSTART;TZID=America/New_York:20240515T210000
DTEND;TZID=America/New_York:20240515T235900
DTSTAMP:20260423T224242
CREATED:20221201T185425Z
LAST-MODIFIED:20221201T185425Z
UID:3963-1715806800-1715817540@sweettimeent.com
SUMMARY:Wednesday Karaoke at Friar Tucks
DESCRIPTION:Karaoke every Wednesday night!\nHosted by DJ Deelish \n 
URL:https://sweettimeent.com/events/wednesday-karaoke-at-friar-tucks-2024-05-15/
LOCATION:Friar Tuck’s Tavern\, 12 Water St\, Mystic\, CT\, 06355\, United States
CATEGORIES:Karaoke
ATTACH;FMTTYPE=image/png:https://sweettimeent.com/wp-content/uploads/2022/12/Friar-Tucks-Flyer-11x14-1.png
END:VEVENT
BEGIN:VEVENT
DTSTART;TZID=America/New_York:20240512T203000
DTEND;TZID=America/New_York:20240512T233000
DTSTAMP:20260423T224242
CREATED:20210913T144643Z
LAST-MODIFIED:20210913T144643Z
UID:4101-1715545800-1715556600@sweettimeent.com
SUMMARY:Sunday Karaoke at Harp & Hound
DESCRIPTION:Karaoke Every Sunday\nHosted by DJ Deelish!
URL:https://sweettimeent.com/events/sunday-karaoke-night-2024-05-12/
LOCATION:Harp & Hound\, 4 Pearl Street\, Mystic\, CT\, 06355\, United States
CATEGORIES:Karaoke
ATTACH;FMTTYPE=image/jpeg:https://sweettimeent.com/wp-content/uploads/2021/09/FB_IMG_1627829416471.jpg
END:VEVENT
BEGIN:VEVENT
DTSTART;TZID=America/New_York:20240510T210000
DTEND;TZID=America/New_York:20240510T235900
DTSTAMP:20260423T224242
CREATED:20210913T144328Z
LAST-MODIFIED:20240202T190543Z
UID:4008-1715374800-1715385540@sweettimeent.com
SUMMARY:Friday Karaoke at The Brazen Hen
DESCRIPTION:Karaoke Every Friday\n9pm – 12am\nHosted by DJ Sweet Nik!
URL:https://sweettimeent.com/events/friday-karaoke-night-2024-05-10/
LOCATION:The Brazen Hen\, 4 Canal Street\, Westerly\, RI\, 02891\, United States
CATEGORIES:Karaoke
ATTACH;FMTTYPE=image/jpeg:https://sweettimeent.com/wp-content/uploads/2021/09/FB_IMG_1625880869056.jpg
END:VEVENT
BEGIN:VEVENT
DTSTART;TZID=America/New_York:20240508T210000
DTEND;TZID=America/New_York:20240508T235900
DTSTAMP:20260423T224242
CREATED:20221201T185425Z
LAST-MODIFIED:20221201T185425Z
UID:3962-1715202000-1715212740@sweettimeent.com
SUMMARY:Wednesday Karaoke at Friar Tucks
DESCRIPTION:Karaoke every Wednesday night!\nHosted by DJ Deelish \n 
URL:https://sweettimeent.com/events/wednesday-karaoke-at-friar-tucks-2024-05-08/
LOCATION:Friar Tuck’s Tavern\, 12 Water St\, Mystic\, CT\, 06355\, United States
CATEGORIES:Karaoke
ATTACH;FMTTYPE=image/png:https://sweettimeent.com/wp-content/uploads/2022/12/Friar-Tucks-Flyer-11x14-1.png
END:VEVENT
BEGIN:VEVENT
DTSTART;TZID=America/New_York:20240505T203000
DTEND;TZID=America/New_York:20240505T233000
DTSTAMP:20260423T224242
CREATED:20210913T144643Z
LAST-MODIFIED:20210913T144643Z
UID:4100-1714941000-1714951800@sweettimeent.com
SUMMARY:Sunday Karaoke at Harp & Hound
DESCRIPTION:Karaoke Every Sunday\nHosted by DJ Deelish!
URL:https://sweettimeent.com/events/sunday-karaoke-night-2024-05-05/
LOCATION:Harp & Hound\, 4 Pearl Street\, Mystic\, CT\, 06355\, United States
CATEGORIES:Karaoke
ATTACH;FMTTYPE=image/jpeg:https://sweettimeent.com/wp-content/uploads/2021/09/FB_IMG_1627829416471.jpg
END:VEVENT
BEGIN:VEVENT
DTSTART;TZID=America/New_York:20240503T210000
DTEND;TZID=America/New_York:20240503T235900
DTSTAMP:20260423T224242
CREATED:20210913T144328Z
LAST-MODIFIED:20240202T190543Z
UID:4007-1714770000-1714780740@sweettimeent.com
SUMMARY:Friday Karaoke at The Brazen Hen
DESCRIPTION:Karaoke Every Friday\n9pm – 12am\nHosted by DJ Sweet Nik!
URL:https://sweettimeent.com/events/friday-karaoke-night-2024-05-03/
LOCATION:The Brazen Hen\, 4 Canal Street\, Westerly\, RI\, 02891\, United States
CATEGORIES:Karaoke
ATTACH;FMTTYPE=image/jpeg:https://sweettimeent.com/wp-content/uploads/2021/09/FB_IMG_1625880869056.jpg
END:VEVENT
BEGIN:VEVENT
DTSTART;TZID=America/New_York:20240501T210000
DTEND;TZID=America/New_York:20240501T235900
DTSTAMP:20260423T224242
CREATED:20221201T185425Z
LAST-MODIFIED:20221201T185425Z
UID:3961-1714597200-1714607940@sweettimeent.com
SUMMARY:Wednesday Karaoke at Friar Tucks
DESCRIPTION:Karaoke every Wednesday night!\nHosted by DJ Deelish \n 
URL:https://sweettimeent.com/events/wednesday-karaoke-at-friar-tucks-2024-05-01/
LOCATION:Friar Tuck’s Tavern\, 12 Water St\, Mystic\, CT\, 06355\, United States
CATEGORIES:Karaoke
ATTACH;FMTTYPE=image/png:https://sweettimeent.com/wp-content/uploads/2022/12/Friar-Tucks-Flyer-11x14-1.png
END:VEVENT
BEGIN:VEVENT
DTSTART;TZID=America/New_York:20240428T203000
DTEND;TZID=America/New_York:20240428T233000
DTSTAMP:20260423T224242
CREATED:20210913T144643Z
LAST-MODIFIED:20210913T144643Z
UID:4099-1714336200-1714347000@sweettimeent.com
SUMMARY:Sunday Karaoke at Harp & Hound
DESCRIPTION:Karaoke Every Sunday\nHosted by DJ Deelish!
URL:https://sweettimeent.com/events/sunday-karaoke-night-2024-04-28/
LOCATION:Harp & Hound\, 4 Pearl Street\, Mystic\, CT\, 06355\, United States
CATEGORIES:Karaoke
ATTACH;FMTTYPE=image/jpeg:https://sweettimeent.com/wp-content/uploads/2021/09/FB_IMG_1627829416471.jpg
END:VEVENT
BEGIN:VEVENT
DTSTART;TZID=America/New_York:20240426T210000
DTEND;TZID=America/New_York:20240426T235900
DTSTAMP:20260423T224242
CREATED:20210913T144328Z
LAST-MODIFIED:20240202T190543Z
UID:4006-1714165200-1714175940@sweettimeent.com
SUMMARY:Friday Karaoke at The Brazen Hen
DESCRIPTION:Karaoke Every Friday\n9pm – 12am\nHosted by DJ Sweet Nik!
URL:https://sweettimeent.com/events/friday-karaoke-night-2024-04-26/
LOCATION:The Brazen Hen\, 4 Canal Street\, Westerly\, RI\, 02891\, United States
CATEGORIES:Karaoke
ATTACH;FMTTYPE=image/jpeg:https://sweettimeent.com/wp-content/uploads/2021/09/FB_IMG_1625880869056.jpg
END:VEVENT
BEGIN:VEVENT
DTSTART;TZID=America/New_York:20240424T210000
DTEND;TZID=America/New_York:20240424T235900
DTSTAMP:20260423T224242
CREATED:20221201T185425Z
LAST-MODIFIED:20221201T185425Z
UID:3960-1713992400-1714003140@sweettimeent.com
SUMMARY:Wednesday Karaoke at Friar Tucks
DESCRIPTION:Karaoke every Wednesday night!\nHosted by DJ Deelish \n 
URL:https://sweettimeent.com/events/wednesday-karaoke-at-friar-tucks-2024-04-24/
LOCATION:Friar Tuck’s Tavern\, 12 Water St\, Mystic\, CT\, 06355\, United States
CATEGORIES:Karaoke
ATTACH;FMTTYPE=image/png:https://sweettimeent.com/wp-content/uploads/2022/12/Friar-Tucks-Flyer-11x14-1.png
END:VEVENT
BEGIN:VEVENT
DTSTART;TZID=America/New_York:20240421T203000
DTEND;TZID=America/New_York:20240421T233000
DTSTAMP:20260423T224242
CREATED:20210913T144643Z
LAST-MODIFIED:20210913T144643Z
UID:4098-1713731400-1713742200@sweettimeent.com
SUMMARY:Sunday Karaoke at Harp & Hound
DESCRIPTION:Karaoke Every Sunday\nHosted by DJ Deelish!
URL:https://sweettimeent.com/events/sunday-karaoke-night-2024-04-21/
LOCATION:Harp & Hound\, 4 Pearl Street\, Mystic\, CT\, 06355\, United States
CATEGORIES:Karaoke
ATTACH;FMTTYPE=image/jpeg:https://sweettimeent.com/wp-content/uploads/2021/09/FB_IMG_1627829416471.jpg
END:VEVENT
BEGIN:VEVENT
DTSTART;TZID=America/New_York:20240419T210000
DTEND;TZID=America/New_York:20240419T235900
DTSTAMP:20260423T224242
CREATED:20210913T144328Z
LAST-MODIFIED:20240202T190543Z
UID:4005-1713560400-1713571140@sweettimeent.com
SUMMARY:Friday Karaoke at The Brazen Hen
DESCRIPTION:Karaoke Every Friday\n9pm – 12am\nHosted by DJ Sweet Nik!
URL:https://sweettimeent.com/events/friday-karaoke-night-2024-04-19/
LOCATION:The Brazen Hen\, 4 Canal Street\, Westerly\, RI\, 02891\, United States
CATEGORIES:Karaoke
ATTACH;FMTTYPE=image/jpeg:https://sweettimeent.com/wp-content/uploads/2021/09/FB_IMG_1625880869056.jpg
END:VEVENT
BEGIN:VEVENT
DTSTART;TZID=America/New_York:20240417T210000
DTEND;TZID=America/New_York:20240417T235900
DTSTAMP:20260423T224242
CREATED:20221201T185425Z
LAST-MODIFIED:20221201T185425Z
UID:3959-1713387600-1713398340@sweettimeent.com
SUMMARY:Wednesday Karaoke at Friar Tucks
DESCRIPTION:Karaoke every Wednesday night!\nHosted by DJ Deelish \n 
URL:https://sweettimeent.com/events/wednesday-karaoke-at-friar-tucks-2024-04-17/
LOCATION:Friar Tuck’s Tavern\, 12 Water St\, Mystic\, CT\, 06355\, United States
CATEGORIES:Karaoke
ATTACH;FMTTYPE=image/png:https://sweettimeent.com/wp-content/uploads/2022/12/Friar-Tucks-Flyer-11x14-1.png
END:VEVENT
BEGIN:VEVENT
DTSTART;TZID=America/New_York:20240414T203000
DTEND;TZID=America/New_York:20240414T233000
DTSTAMP:20260423T224242
CREATED:20210913T144643Z
LAST-MODIFIED:20210913T144643Z
UID:4097-1713126600-1713137400@sweettimeent.com
SUMMARY:Sunday Karaoke at Harp & Hound
DESCRIPTION:Karaoke Every Sunday\nHosted by DJ Deelish!
URL:https://sweettimeent.com/events/sunday-karaoke-night-2024-04-14/
LOCATION:Harp & Hound\, 4 Pearl Street\, Mystic\, CT\, 06355\, United States
CATEGORIES:Karaoke
ATTACH;FMTTYPE=image/jpeg:https://sweettimeent.com/wp-content/uploads/2021/09/FB_IMG_1627829416471.jpg
END:VEVENT
BEGIN:VEVENT
DTSTART;TZID=America/New_York:20240412T210000
DTEND;TZID=America/New_York:20240412T235900
DTSTAMP:20260423T224242
CREATED:20210913T144328Z
LAST-MODIFIED:20240202T190541Z
UID:4004-1712955600-1712966340@sweettimeent.com
SUMMARY:Friday Karaoke at The Brazen Hen
DESCRIPTION:Karaoke Every Friday\n9pm – 12am\nHosted by DJ Sweet Nik!
URL:https://sweettimeent.com/events/friday-karaoke-night-2024-04-12/
LOCATION:The Brazen Hen\, 4 Canal Street\, Westerly\, RI\, 02891\, United States
CATEGORIES:Karaoke
ATTACH;FMTTYPE=image/jpeg:https://sweettimeent.com/wp-content/uploads/2021/09/FB_IMG_1625880869056.jpg
END:VEVENT
BEGIN:VEVENT
DTSTART;TZID=America/New_York:20240410T210000
DTEND;TZID=America/New_York:20240410T235900
DTSTAMP:20260423T224242
CREATED:20221201T185425Z
LAST-MODIFIED:20221201T185425Z
UID:3958-1712782800-1712793540@sweettimeent.com
SUMMARY:Wednesday Karaoke at Friar Tucks
DESCRIPTION:Karaoke every Wednesday night!\nHosted by DJ Deelish \n 
URL:https://sweettimeent.com/events/wednesday-karaoke-at-friar-tucks-2024-04-10/
LOCATION:Friar Tuck’s Tavern\, 12 Water St\, Mystic\, CT\, 06355\, United States
CATEGORIES:Karaoke
ATTACH;FMTTYPE=image/png:https://sweettimeent.com/wp-content/uploads/2022/12/Friar-Tucks-Flyer-11x14-1.png
END:VEVENT
BEGIN:VEVENT
DTSTART;TZID=America/New_York:20240407T203000
DTEND;TZID=America/New_York:20240407T233000
DTSTAMP:20260423T224242
CREATED:20210913T144643Z
LAST-MODIFIED:20210913T144643Z
UID:4096-1712521800-1712532600@sweettimeent.com
SUMMARY:Sunday Karaoke at Harp & Hound
DESCRIPTION:Karaoke Every Sunday\nHosted by DJ Deelish!
URL:https://sweettimeent.com/events/sunday-karaoke-night-2024-04-07/
LOCATION:Harp & Hound\, 4 Pearl Street\, Mystic\, CT\, 06355\, United States
CATEGORIES:Karaoke
ATTACH;FMTTYPE=image/jpeg:https://sweettimeent.com/wp-content/uploads/2021/09/FB_IMG_1627829416471.jpg
END:VEVENT
END:VCALENDAR